BEGIN:VCALENDAR
VERSION:2.0
PRODID:-//Bethel AME Church Ann Arbor - ECPv6.2.5//NONSGML v1.0//EN
CALSCALE:GREGORIAN
METHOD:PUBLISH
X-WR-CALNAME:Bethel AME Church Ann Arbor
X-ORIGINAL-URL:https://bethelameannarbor.org
X-WR-CALDESC:Events for Bethel AME Church Ann Arbor
REFRESH-INTERVAL;VALUE=DURATION:PT1H
X-Robots-Tag:noindex
X-PUBLISHED-TTL:PT1H
BEGIN:VTIMEZONE
TZID:America/New_York
BEGIN:DAYLIGHT
TZOFFSETFROM:-0500
TZOFFSETTO:-0400
TZNAME:EDT
DTSTART:20240310T070000
END:DAYLIGHT
BEGIN:STANDARD
TZOFFSETFROM:-0400
TZOFFSETTO:-0500
TZNAME:EST
DTSTART:20241103T060000
END:STANDARD
END:VTIMEZONE
BEGIN:VEVENT
DTSTART;VALUE=DATE:20240904
DTEND;VALUE=DATE:20240908
DTSTAMP:20260420T153633
CREATED:20240903T162758Z
LAST-MODIFIED:20240903T162802Z
UID:10003461-1725408000-1725753599@bethelameannarbor.org
SUMMARY:Canadian Annual Conference
DESCRIPTION:
URL:https://bethelameannarbor.org/event/canadian-annual-conference/
END:VEVENT
BEGIN:VEVENT
DTSTART;TZID=America/New_York:20240905T070000
DTEND;TZID=America/New_York:20240905T071000
DTSTAMP:20260420T153633
CREATED:20231102T040911Z
LAST-MODIFIED:20240108T193308Z
UID:10000802-1725519600-1725520200@bethelameannarbor.org
SUMMARY:Daily Prayer
DESCRIPTION:
URL:https://bethelameannarbor.org/event/daily-prayer/2024-09-05/
END:VEVENT
END:VCALENDAR