BEGIN:VCALENDAR
VERSION:2.0
PRODID:-//Bethel AME Church Ann Arbor - ECPv6.2.5//NONSGML v1.0//EN
CALSCALE:GREGORIAN
METHOD:PUBLISH
X-ORIGINAL-URL:https://bethelameannarbor.org
X-WR-CALDESC:Events for Bethel AME Church Ann Arbor
REFRESH-INTERVAL;VALUE=DURATION:PT1H
X-Robots-Tag:noindex
X-PUBLISHED-TTL:PT1H
BEGIN:VTIMEZONE
TZID:America/New_York
BEGIN:DAYLIGHT
TZOFFSETFROM:-0500
TZOFFSETTO:-0400
TZNAME:EDT
DTSTART:20240310T070000
END:DAYLIGHT
BEGIN:STANDARD
TZOFFSETFROM:-0400
TZOFFSETTO:-0500
TZNAME:EST
DTSTART:20241103T060000
END:STANDARD
END:VTIMEZONE
BEGIN:VEVENT
DTSTART;VALUE=DATE:20241124
DTEND;VALUE=DATE:20241212
DTSTAMP:20260419T185440
CREATED:20231127T180420Z
LAST-MODIFIED:20231127T185410Z
UID:10002413-1732406400-1733961599@bethelameannarbor.org
SUMMARY:The Most Wonderful Time of the Year
DESCRIPTION:
URL:https://bethelameannarbor.org/event/the-most-wonderful-time-of-the-year/2024-11-24/
LOCATION:Bethel AME Church
CATEGORIES:Bethel
ATTACH;FMTTYPE=image/jpeg:https://bethelameannarbor.org/wp-content/uploads/2023/11/Bethel-2023-MWTY-FLYER.jpg
END:VEVENT
BEGIN:VEVENT
DTSTART;TZID=America/New_York:20241124T100000
DTEND;TZID=America/New_York:20241124T113000
DTSTAMP:20260419T185440
CREATED:20230730T051524Z
LAST-MODIFIED:20231102T035056Z
UID:10000070-1732442400-1732447800@bethelameannarbor.org
SUMMARY:Sunday Service
DESCRIPTION:
URL:https://bethelameannarbor.org/event/sunday-service/2024-11-24/
LOCATION:Bethel AME Church
CATEGORIES:Services
ATTACH;FMTTYPE=image/jpeg:https://bethelameannarbor.org/wp-content/uploads/2023/07/Pastor-in-pulpit2.jpg
END:VEVENT
END:VCALENDAR