BEGIN:VCALENDAR
VERSION:2.0
PRODID:-//Bethel AME Church Ann Arbor - ECPv6.2.5//NONSGML v1.0//EN
CALSCALE:GREGORIAN
METHOD:PUBLISH
X-WR-CALNAME:Bethel AME Church Ann Arbor
X-ORIGINAL-URL:https://bethelameannarbor.org
X-WR-CALDESC:Events for Bethel AME Church Ann Arbor
REFRESH-INTERVAL;VALUE=DURATION:PT1H
X-Robots-Tag:noindex
X-PUBLISHED-TTL:PT1H
BEGIN:VTIMEZONE
TZID:America/New_York
BEGIN:DAYLIGHT
TZOFFSETFROM:-0500
TZOFFSETTO:-0400
TZNAME:EDT
DTSTART:20240310T070000
END:DAYLIGHT
BEGIN:STANDARD
TZOFFSETFROM:-0400
TZOFFSETTO:-0500
TZNAME:EST
DTSTART:20241103T060000
END:STANDARD
END:VTIMEZONE
BEGIN:VEVENT
DTSTART;TZID=America/New_York:20240113T070000
DTEND;TZID=America/New_York:20240113T071000
DTSTAMP:20260423T183723
CREATED:20231102T040911Z
LAST-MODIFIED:20240108T193308Z
UID:10000600-1705129200-1705129800@bethelameannarbor.org
SUMMARY:Daily Prayer
DESCRIPTION:
URL:https://bethelameannarbor.org/event/daily-prayer/2024-01-13/
END:VEVENT
BEGIN:VEVENT
DTSTART;TZID=America/New_York:20240114T083000
DTEND;TZID=America/New_York:20240114T213000
DTSTAMP:20260423T183723
CREATED:20231102T040107Z
LAST-MODIFIED:20231102T040107Z
UID:10000286-1705221000-1705267800@bethelameannarbor.org
SUMMARY:Church School
DESCRIPTION:
URL:https://bethelameannarbor.org/event/church-school/2024-01-14/
ATTACH;FMTTYPE=image/jpeg:https://bethelameannarbor.org/wp-content/uploads/2023/09/school.jpg
END:VEVENT
BEGIN:VEVENT
DTSTART;TZID=America/New_York:20240114T100000
DTEND;TZID=America/New_York:20240114T113000
DTSTAMP:20260423T183723
CREATED:20230730T051524Z
LAST-MODIFIED:20231102T035056Z
UID:10000025-1705226400-1705231800@bethelameannarbor.org
SUMMARY:Sunday Service
DESCRIPTION:
URL:https://bethelameannarbor.org/event/sunday-service/2024-01-14/
LOCATION:Bethel AME Church
CATEGORIES:Services
ATTACH;FMTTYPE=image/jpeg:https://bethelameannarbor.org/wp-content/uploads/2023/07/Pastor-in-pulpit2.jpg
END:VEVENT
BEGIN:VEVENT
DTSTART;TZID=America/New_York:20240114T113000
DTEND;TZID=America/New_York:20240114T123000
DTSTAMP:20260423T183723
CREATED:20240108T212427Z
LAST-MODIFIED:20240108T212427Z
UID:10003244-1705231800-1705235400@bethelameannarbor.org
SUMMARY:Lay Meeting Following Service\, Small Chapel
DESCRIPTION:
URL:https://bethelameannarbor.org/event/lay-meeting-following-service-small-chapel/2024-01-14/
END:VEVENT
BEGIN:VEVENT
DTSTART;VALUE=DATE:20240115
DTEND;VALUE=DATE:20240116
DTSTAMP:20260423T183723
CREATED:20240108T184352Z
LAST-MODIFIED:20240108T184358Z
UID:10002497-1705276800-1705363199@bethelameannarbor.org
SUMMARY:Dr. Martin Luther King\, Jr.\, Holiday
DESCRIPTION:
URL:https://bethelameannarbor.org/event/dr-martin-luther-king-jr-holiday/
END:VEVENT
BEGIN:VEVENT
DTSTART;VALUE=DATE:20240115
DTEND;VALUE=DATE:20240116
DTSTAMP:20260423T183723
CREATED:20240108T184045Z
LAST-MODIFIED:20240108T184211Z
UID:10002492-1705276800-1705363199@bethelameannarbor.org
SUMMARY:Dr. Martin Luther King\, Jr. Birthday
DESCRIPTION:
URL:https://bethelameannarbor.org/event/dr-martin-luther-king-jr-birthday/
END:VEVENT
BEGIN:VEVENT
DTSTART;TZID=America/New_York:20240115T070000
DTEND;TZID=America/New_York:20240115T071000
DTSTAMP:20260423T183723
CREATED:20231102T040911Z
LAST-MODIFIED:20240108T193308Z
UID:10000601-1705302000-1705302600@bethelameannarbor.org
SUMMARY:Daily Prayer
DESCRIPTION:
URL:https://bethelameannarbor.org/event/daily-prayer/2024-01-15/
END:VEVENT
BEGIN:VEVENT
DTSTART;TZID=America/New_York:20240116T070000
DTEND;TZID=America/New_York:20240116T071000
DTSTAMP:20260423T183723
CREATED:20231102T040911Z
LAST-MODIFIED:20240108T193308Z
UID:10000602-1705388400-1705389000@bethelameannarbor.org
SUMMARY:Daily Prayer
DESCRIPTION:
URL:https://bethelameannarbor.org/event/daily-prayer/2024-01-16/
END:VEVENT
BEGIN:VEVENT
DTSTART;TZID=America/New_York:20240117T070000
DTEND;TZID=America/New_York:20240117T071000
DTSTAMP:20260423T183723
CREATED:20231102T040911Z
LAST-MODIFIED:20240108T193308Z
UID:10000603-1705474800-1705475400@bethelameannarbor.org
SUMMARY:Daily Prayer
DESCRIPTION:
URL:https://bethelameannarbor.org/event/daily-prayer/2024-01-17/
END:VEVENT
BEGIN:VEVENT
DTSTART;TZID=America/New_York:20240117T183000
DTEND;TZID=America/New_York:20240117T193000
DTSTAMP:20260423T183723
CREATED:20240108T210053Z
LAST-MODIFIED:20240108T210053Z
UID:10002562-1705516200-1705519800@bethelameannarbor.org
SUMMARY:Mass Choir Rehearsal
DESCRIPTION:
URL:https://bethelameannarbor.org/event/mass-choir-rehearsal/2024-01-17/
END:VEVENT
BEGIN:VEVENT
DTSTART;TZID=America/New_York:20240117T193000
DTEND;TZID=America/New_York:20240117T203000
DTSTAMP:20260423T183723
CREATED:20240108T210234Z
LAST-MODIFIED:20240912T155303Z
UID:10002822-1705519800-1705523400@bethelameannarbor.org
SUMMARY:Worship & Praise Team Rehearsal
DESCRIPTION:
URL:https://bethelameannarbor.org/event/worship-praise-team-rehearsal/2024-01-17/
END:VEVENT
BEGIN:VEVENT
DTSTART;TZID=America/New_York:20240118T070000
DTEND;TZID=America/New_York:20240118T071000
DTSTAMP:20260423T183723
CREATED:20231102T040911Z
LAST-MODIFIED:20240108T193308Z
UID:10000604-1705561200-1705561800@bethelameannarbor.org
SUMMARY:Daily Prayer
DESCRIPTION:
URL:https://bethelameannarbor.org/event/daily-prayer/2024-01-18/
END:VEVENT
BEGIN:VEVENT
DTSTART;VALUE=DATE:20240119
DTEND;VALUE=DATE:20240120
DTSTAMP:20260423T183723
CREATED:20240108T183016Z
LAST-MODIFIED:20240108T183323Z
UID:10002487-1705622400-1705708799@bethelameannarbor.org
SUMMARY:Rev. Mashod Evans Birthday
DESCRIPTION:Happy birthday Rev. Mashod Evans
URL:https://bethelameannarbor.org/event/rev-mashod-evans-birthday/2024-01-19/
END:VEVENT
BEGIN:VEVENT
DTSTART;TZID=America/New_York:20240119T070000
DTEND;TZID=America/New_York:20240119T071000
DTSTAMP:20260423T183723
CREATED:20231102T040911Z
LAST-MODIFIED:20240108T193308Z
UID:10000605-1705647600-1705648200@bethelameannarbor.org
SUMMARY:Daily Prayer
DESCRIPTION:
URL:https://bethelameannarbor.org/event/daily-prayer/2024-01-19/
END:VEVENT
BEGIN:VEVENT
DTSTART;TZID=America/New_York:20240120T070000
DTEND;TZID=America/New_York:20240120T071000
DTSTAMP:20260423T183723
CREATED:20231102T040911Z
LAST-MODIFIED:20240108T193308Z
UID:10000606-1705734000-1705734600@bethelameannarbor.org
SUMMARY:Daily Prayer
DESCRIPTION:
URL:https://bethelameannarbor.org/event/daily-prayer/2024-01-20/
END:VEVENT
BEGIN:VEVENT
DTSTART;TZID=America/New_York:20240121T083000
DTEND;TZID=America/New_York:20240121T213000
DTSTAMP:20260423T183723
CREATED:20231102T040107Z
LAST-MODIFIED:20231102T040107Z
UID:10000287-1705825800-1705872600@bethelameannarbor.org
SUMMARY:Church School
DESCRIPTION:
URL:https://bethelameannarbor.org/event/church-school/2024-01-21/
ATTACH;FMTTYPE=image/jpeg:https://bethelameannarbor.org/wp-content/uploads/2023/09/school.jpg
END:VEVENT
BEGIN:VEVENT
DTSTART;TZID=America/New_York:20240121T100000
DTEND;TZID=America/New_York:20240121T113000
DTSTAMP:20260423T183723
CREATED:20230730T051524Z
LAST-MODIFIED:20231102T035056Z
UID:10000026-1705831200-1705836600@bethelameannarbor.org
SUMMARY:Sunday Service
DESCRIPTION:
URL:https://bethelameannarbor.org/event/sunday-service/2024-01-21/
LOCATION:Bethel AME Church
CATEGORIES:Services
ATTACH;FMTTYPE=image/jpeg:https://bethelameannarbor.org/wp-content/uploads/2023/07/Pastor-in-pulpit2.jpg
END:VEVENT
BEGIN:VEVENT
DTSTART;TZID=America/New_York:20240121T120000
DTEND;TZID=America/New_York:20240121T130000
DTSTAMP:20260423T183723
CREATED:20240108T210827Z
LAST-MODIFIED:20240108T211213Z
UID:10003003-1705838400-1705842000@bethelameannarbor.org
SUMMARY:WMS Meets Following Service in Small Chapel
DESCRIPTION:
URL:https://bethelameannarbor.org/event/wms-meets-following-service-in-small-chapel/2024-01-21/
END:VEVENT
BEGIN:VEVENT
DTSTART;TZID=America/New_York:20240122T070000
DTEND;TZID=America/New_York:20240122T071000
DTSTAMP:20260423T183723
CREATED:20231102T040911Z
LAST-MODIFIED:20240108T193308Z
UID:10000607-1705906800-1705907400@bethelameannarbor.org
SUMMARY:Daily Prayer
DESCRIPTION:
URL:https://bethelameannarbor.org/event/daily-prayer/2024-01-22/
END:VEVENT
BEGIN:VEVENT
DTSTART;TZID=America/New_York:20240123T070000
DTEND;TZID=America/New_York:20240123T071000
DTSTAMP:20260423T183723
CREATED:20231102T040911Z
LAST-MODIFIED:20240108T193308Z
UID:10000608-1705993200-1705993800@bethelameannarbor.org
SUMMARY:Daily Prayer
DESCRIPTION:
URL:https://bethelameannarbor.org/event/daily-prayer/2024-01-23/
END:VEVENT
BEGIN:VEVENT
DTSTART;TZID=America/New_York:20240124T070000
DTEND;TZID=America/New_York:20240124T071000
DTSTAMP:20260423T183723
CREATED:20231102T040911Z
LAST-MODIFIED:20240108T193308Z
UID:10000609-1706079600-1706080200@bethelameannarbor.org
SUMMARY:Daily Prayer
DESCRIPTION:
URL:https://bethelameannarbor.org/event/daily-prayer/2024-01-24/
END:VEVENT
BEGIN:VEVENT
DTSTART;TZID=America/New_York:20240124T183000
DTEND;TZID=America/New_York:20240124T193000
DTSTAMP:20260423T183723
CREATED:20240108T210053Z
LAST-MODIFIED:20240108T210053Z
UID:10002563-1706121000-1706124600@bethelameannarbor.org
SUMMARY:Mass Choir Rehearsal
DESCRIPTION:
URL:https://bethelameannarbor.org/event/mass-choir-rehearsal/2024-01-24/
END:VEVENT
BEGIN:VEVENT
DTSTART;TZID=America/New_York:20240125T070000
DTEND;TZID=America/New_York:20240125T071000
DTSTAMP:20260423T183723
CREATED:20231102T040911Z
LAST-MODIFIED:20240108T193308Z
UID:10000610-1706166000-1706166600@bethelameannarbor.org
SUMMARY:Daily Prayer
DESCRIPTION:
URL:https://bethelameannarbor.org/event/daily-prayer/2024-01-25/
END:VEVENT
BEGIN:VEVENT
DTSTART;TZID=America/New_York:20240126T070000
DTEND;TZID=America/New_York:20240126T071000
DTSTAMP:20260423T183723
CREATED:20231102T040911Z
LAST-MODIFIED:20240108T193308Z
UID:10000611-1706252400-1706253000@bethelameannarbor.org
SUMMARY:Daily Prayer
DESCRIPTION:
URL:https://bethelameannarbor.org/event/daily-prayer/2024-01-26/
END:VEVENT
BEGIN:VEVENT
DTSTART;TZID=America/New_York:20240127T070000
DTEND;TZID=America/New_York:20240127T071000
DTSTAMP:20260423T183723
CREATED:20231102T040911Z
LAST-MODIFIED:20240108T193308Z
UID:10000612-1706338800-1706339400@bethelameannarbor.org
SUMMARY:Daily Prayer
DESCRIPTION:
URL:https://bethelameannarbor.org/event/daily-prayer/2024-01-27/
END:VEVENT
BEGIN:VEVENT
DTSTART;TZID=America/New_York:20240127T130000
DTEND;TZID=America/New_York:20240127T153000
DTSTAMP:20260423T183723
CREATED:20240108T204918Z
LAST-MODIFIED:20240108T204919Z
UID:10002559-1706360400-1706369400@bethelameannarbor.org
SUMMARY:TAASC Presents:  Dr. Martin Luter King\, Jr. Program
DESCRIPTION:
URL:https://bethelameannarbor.org/event/taasc-presents-dr-martin-luter-king-jr-program/
END:VEVENT
BEGIN:VEVENT
DTSTART;TZID=America/New_York:20240128T083000
DTEND;TZID=America/New_York:20240128T213000
DTSTAMP:20260423T183723
CREATED:20231102T040107Z
LAST-MODIFIED:20231102T040107Z
UID:10000288-1706430600-1706477400@bethelameannarbor.org
SUMMARY:Church School
DESCRIPTION:
URL:https://bethelameannarbor.org/event/church-school/2024-01-28/
ATTACH;FMTTYPE=image/jpeg:https://bethelameannarbor.org/wp-content/uploads/2023/09/school.jpg
END:VEVENT
BEGIN:VEVENT
DTSTART;TZID=America/New_York:20240128T100000
DTEND;TZID=America/New_York:20240128T113000
DTSTAMP:20260423T183723
CREATED:20230730T051524Z
LAST-MODIFIED:20231102T035056Z
UID:10000027-1706436000-1706441400@bethelameannarbor.org
SUMMARY:Sunday Service
DESCRIPTION:
URL:https://bethelameannarbor.org/event/sunday-service/2024-01-28/
LOCATION:Bethel AME Church
CATEGORIES:Services
ATTACH;FMTTYPE=image/jpeg:https://bethelameannarbor.org/wp-content/uploads/2023/07/Pastor-in-pulpit2.jpg
END:VEVENT
BEGIN:VEVENT
DTSTART;TZID=America/New_York:20240129T070000
DTEND;TZID=America/New_York:20240129T071000
DTSTAMP:20260423T183723
CREATED:20231102T040911Z
LAST-MODIFIED:20240108T193308Z
UID:10000613-1706511600-1706512200@bethelameannarbor.org
SUMMARY:Daily Prayer
DESCRIPTION:
URL:https://bethelameannarbor.org/event/daily-prayer/2024-01-29/
END:VEVENT
BEGIN:VEVENT
DTSTART;TZID=America/New_York:20240130T070000
DTEND;TZID=America/New_York:20240130T071000
DTSTAMP:20260423T183723
CREATED:20231102T040911Z
LAST-MODIFIED:20240108T193308Z
UID:10000614-1706598000-1706598600@bethelameannarbor.org
SUMMARY:Daily Prayer
DESCRIPTION:
URL:https://bethelameannarbor.org/event/daily-prayer/2024-01-30/
END:VEVENT
END:VCALENDAR