BEGIN:VCALENDAR
VERSION:2.0
PRODID:-//Bethel AME Church Ann Arbor - ECPv6.2.5//NONSGML v1.0//EN
CALSCALE:GREGORIAN
METHOD:PUBLISH
X-WR-CALNAME:Bethel AME Church Ann Arbor
X-ORIGINAL-URL:https://bethelameannarbor.org
X-WR-CALDESC:Events for Bethel AME Church Ann Arbor
REFRESH-INTERVAL;VALUE=DURATION:PT1H
X-Robots-Tag:noindex
X-PUBLISHED-TTL:PT1H
BEGIN:VTIMEZONE
TZID:America/New_York
BEGIN:DAYLIGHT
TZOFFSETFROM:-0500
TZOFFSETTO:-0400
TZNAME:EDT
DTSTART:20240310T070000
END:DAYLIGHT
BEGIN:STANDARD
TZOFFSETFROM:-0400
TZOFFSETTO:-0500
TZNAME:EST
DTSTART:20241103T060000
END:STANDARD
END:VTIMEZONE
BEGIN:VEVENT
DTSTART;TZID=America/New_York:20240806T070000
DTEND;TZID=America/New_York:20240806T071000
DTSTAMP:20260420T211056
CREATED:20231102T040911Z
LAST-MODIFIED:20240108T193308Z
UID:10000776-1722927600-1722928200@bethelameannarbor.org
SUMMARY:Daily Prayer
DESCRIPTION:
URL:https://bethelameannarbor.org/event/daily-prayer/2024-08-06/
END:VEVENT
BEGIN:VEVENT
DTSTART;VALUE=DATE:20240806
DTEND;VALUE=DATE:20240807
DTSTAMP:20260420T211056
CREATED:20240805T155504Z
LAST-MODIFIED:20240805T155512Z
UID:10003415-1722902400-1722988799@bethelameannarbor.org
SUMMARY:VOTE!
DESCRIPTION:
URL:https://bethelameannarbor.org/event/vote/
END:VEVENT
BEGIN:VEVENT
DTSTART;TZID=America/New_York:20240805T070000
DTEND;TZID=America/New_York:20240805T071000
DTSTAMP:20260420T211056
CREATED:20231102T040911Z
LAST-MODIFIED:20240108T193308Z
UID:10000775-1722841200-1722841800@bethelameannarbor.org
SUMMARY:Daily Prayer
DESCRIPTION:
URL:https://bethelameannarbor.org/event/daily-prayer/2024-08-05/
END:VEVENT
BEGIN:VEVENT
DTSTART;TZID=America/New_York:20240804T110000
DTEND;TZID=America/New_York:20240804T113000
DTSTAMP:20260420T211056
CREATED:20240108T210633Z
LAST-MODIFIED:20240108T212110Z
UID:10003190-1722769200-1722771000@bethelameannarbor.org
SUMMARY:Holy Communion Sunday
DESCRIPTION:
URL:https://bethelameannarbor.org/event/holy-communion-sunday/2024-08-04/
END:VEVENT
BEGIN:VEVENT
DTSTART;TZID=America/New_York:20240804T100000
DTEND;TZID=America/New_York:20240804T113000
DTSTAMP:20260420T211056
CREATED:20230730T051524Z
LAST-MODIFIED:20231102T035056Z
UID:10000054-1722765600-1722771000@bethelameannarbor.org
SUMMARY:Sunday Service
DESCRIPTION:
URL:https://bethelameannarbor.org/event/sunday-service/2024-08-04/
LOCATION:Bethel AME Church
CATEGORIES:Services
ATTACH;FMTTYPE=image/jpeg:https://bethelameannarbor.org/wp-content/uploads/2023/07/Pastor-in-pulpit2.jpg
END:VEVENT
BEGIN:VEVENT
DTSTART;TZID=America/New_York:20240803T070000
DTEND;TZID=America/New_York:20240803T071000
DTSTAMP:20260420T211056
CREATED:20231102T040911Z
LAST-MODIFIED:20240108T193308Z
UID:10000774-1722668400-1722669000@bethelameannarbor.org
SUMMARY:Daily Prayer
DESCRIPTION:
URL:https://bethelameannarbor.org/event/daily-prayer/2024-08-03/
END:VEVENT
BEGIN:VEVENT
DTSTART;TZID=America/New_York:20240802T070000
DTEND;TZID=America/New_York:20240802T071000
DTSTAMP:20260420T211056
CREATED:20231102T040911Z
LAST-MODIFIED:20240108T193308Z
UID:10000773-1722582000-1722582600@bethelameannarbor.org
SUMMARY:Daily Prayer
DESCRIPTION:
URL:https://bethelameannarbor.org/event/daily-prayer/2024-08-02/
END:VEVENT
BEGIN:VEVENT
DTSTART;TZID=America/New_York:20240801T070000
DTEND;TZID=America/New_York:20240801T071000
DTSTAMP:20260420T211056
CREATED:20231102T040911Z
LAST-MODIFIED:20240108T193308Z
UID:10000772-1722495600-1722496200@bethelameannarbor.org
SUMMARY:Daily Prayer
DESCRIPTION:
URL:https://bethelameannarbor.org/event/daily-prayer/2024-08-01/
END:VEVENT
BEGIN:VEVENT
DTSTART;TZID=America/New_York:20240731T070000
DTEND;TZID=America/New_York:20240731T071000
DTSTAMP:20260420T211056
CREATED:20231102T040911Z
LAST-MODIFIED:20240108T193308Z
UID:10000771-1722409200-1722409800@bethelameannarbor.org
SUMMARY:Daily Prayer
DESCRIPTION:
URL:https://bethelameannarbor.org/event/daily-prayer/2024-07-31/
END:VEVENT
BEGIN:VEVENT
DTSTART;TZID=America/New_York:20240730T070000
DTEND;TZID=America/New_York:20240730T071000
DTSTAMP:20260420T211056
CREATED:20231102T040911Z
LAST-MODIFIED:20240108T193308Z
UID:10000770-1722322800-1722323400@bethelameannarbor.org
SUMMARY:Daily Prayer
DESCRIPTION:
URL:https://bethelameannarbor.org/event/daily-prayer/2024-07-30/
END:VEVENT
BEGIN:VEVENT
DTSTART;TZID=America/New_York:20240729T070000
DTEND;TZID=America/New_York:20240729T071000
DTSTAMP:20260420T211056
CREATED:20231102T040911Z
LAST-MODIFIED:20240108T193308Z
UID:10000769-1722236400-1722237000@bethelameannarbor.org
SUMMARY:Daily Prayer
DESCRIPTION:
URL:https://bethelameannarbor.org/event/daily-prayer/2024-07-29/
END:VEVENT
BEGIN:VEVENT
DTSTART;TZID=America/New_York:20240728T100000
DTEND;TZID=America/New_York:20240728T113000
DTSTAMP:20260420T211056
CREATED:20230730T051524Z
LAST-MODIFIED:20231102T035056Z
UID:10000053-1722160800-1722166200@bethelameannarbor.org
SUMMARY:Sunday Service
DESCRIPTION:
URL:https://bethelameannarbor.org/event/sunday-service/2024-07-28/
LOCATION:Bethel AME Church
CATEGORIES:Services
ATTACH;FMTTYPE=image/jpeg:https://bethelameannarbor.org/wp-content/uploads/2023/07/Pastor-in-pulpit2.jpg
END:VEVENT
BEGIN:VEVENT
DTSTART;TZID=America/New_York:20240727T070000
DTEND;TZID=America/New_York:20240727T071000
DTSTAMP:20260420T211056
CREATED:20231102T040911Z
LAST-MODIFIED:20240108T193308Z
UID:10000768-1722063600-1722064200@bethelameannarbor.org
SUMMARY:Daily Prayer
DESCRIPTION:
URL:https://bethelameannarbor.org/event/daily-prayer/2024-07-27/
END:VEVENT
BEGIN:VEVENT
DTSTART;TZID=America/New_York:20240726T070000
DTEND;TZID=America/New_York:20240726T071000
DTSTAMP:20260420T211056
CREATED:20231102T040911Z
LAST-MODIFIED:20240108T193308Z
UID:10000767-1721977200-1721977800@bethelameannarbor.org
SUMMARY:Daily Prayer
DESCRIPTION:
URL:https://bethelameannarbor.org/event/daily-prayer/2024-07-26/
END:VEVENT
BEGIN:VEVENT
DTSTART;TZID=America/New_York:20240725T070000
DTEND;TZID=America/New_York:20240725T071000
DTSTAMP:20260420T211056
CREATED:20231102T040911Z
LAST-MODIFIED:20240108T193308Z
UID:10000766-1721890800-1721891400@bethelameannarbor.org
SUMMARY:Daily Prayer
DESCRIPTION:
URL:https://bethelameannarbor.org/event/daily-prayer/2024-07-25/
END:VEVENT
BEGIN:VEVENT
DTSTART;VALUE=DATE:20240725
DTEND;VALUE=DATE:20240728
DTSTAMP:20260420T211056
CREATED:20240702T222403Z
LAST-MODIFIED:20240702T222403Z
UID:10003402-1721865600-1722124799@bethelameannarbor.org
SUMMARY:4th District Christian Education Congress
DESCRIPTION:
URL:https://bethelameannarbor.org/event/4th-district-christian-education-congress/
END:VEVENT
BEGIN:VEVENT
DTSTART;TZID=America/New_York:20240724T070000
DTEND;TZID=America/New_York:20240724T071000
DTSTAMP:20260420T211056
CREATED:20231102T040911Z
LAST-MODIFIED:20240108T193308Z
UID:10000765-1721804400-1721805000@bethelameannarbor.org
SUMMARY:Daily Prayer
DESCRIPTION:
URL:https://bethelameannarbor.org/event/daily-prayer/2024-07-24/
END:VEVENT
BEGIN:VEVENT
DTSTART;TZID=America/New_York:20240723T070000
DTEND;TZID=America/New_York:20240723T071000
DTSTAMP:20260420T211056
CREATED:20231102T040911Z
LAST-MODIFIED:20240108T193308Z
UID:10000764-1721718000-1721718600@bethelameannarbor.org
SUMMARY:Daily Prayer
DESCRIPTION:
URL:https://bethelameannarbor.org/event/daily-prayer/2024-07-23/
END:VEVENT
BEGIN:VEVENT
DTSTART;TZID=America/New_York:20240722T070000
DTEND;TZID=America/New_York:20240722T071000
DTSTAMP:20260420T211056
CREATED:20231102T040911Z
LAST-MODIFIED:20240108T193308Z
UID:10000763-1721631600-1721632200@bethelameannarbor.org
SUMMARY:Daily Prayer
DESCRIPTION:
URL:https://bethelameannarbor.org/event/daily-prayer/2024-07-22/
END:VEVENT
BEGIN:VEVENT
DTSTART;TZID=America/New_York:20240721T100000
DTEND;TZID=America/New_York:20240721T113000
DTSTAMP:20260420T211056
CREATED:20230730T051524Z
LAST-MODIFIED:20231102T035056Z
UID:10000052-1721556000-1721561400@bethelameannarbor.org
SUMMARY:Sunday Service
DESCRIPTION:
URL:https://bethelameannarbor.org/event/sunday-service/2024-07-21/
LOCATION:Bethel AME Church
CATEGORIES:Services
ATTACH;FMTTYPE=image/jpeg:https://bethelameannarbor.org/wp-content/uploads/2023/07/Pastor-in-pulpit2.jpg
END:VEVENT
BEGIN:VEVENT
DTSTART;TZID=America/New_York:20240720T070000
DTEND;TZID=America/New_York:20240720T071000
DTSTAMP:20260420T211056
CREATED:20231102T040911Z
LAST-MODIFIED:20240108T193308Z
UID:10000762-1721458800-1721459400@bethelameannarbor.org
SUMMARY:Daily Prayer
DESCRIPTION:
URL:https://bethelameannarbor.org/event/daily-prayer/2024-07-20/
END:VEVENT
BEGIN:VEVENT
DTSTART;TZID=America/New_York:20240719T070000
DTEND;TZID=America/New_York:20240719T071000
DTSTAMP:20260420T211056
CREATED:20231102T040911Z
LAST-MODIFIED:20240108T193308Z
UID:10000761-1721372400-1721373000@bethelameannarbor.org
SUMMARY:Daily Prayer
DESCRIPTION:
URL:https://bethelameannarbor.org/event/daily-prayer/2024-07-19/
END:VEVENT
BEGIN:VEVENT
DTSTART;TZID=America/New_York:20240718T070000
DTEND;TZID=America/New_York:20240718T071000
DTSTAMP:20260420T211056
CREATED:20231102T040911Z
LAST-MODIFIED:20240108T193308Z
UID:10000760-1721286000-1721286600@bethelameannarbor.org
SUMMARY:Daily Prayer
DESCRIPTION:
URL:https://bethelameannarbor.org/event/daily-prayer/2024-07-18/
END:VEVENT
BEGIN:VEVENT
DTSTART;TZID=America/New_York:20240717T070000
DTEND;TZID=America/New_York:20240717T071000
DTSTAMP:20260420T211056
CREATED:20231102T040911Z
LAST-MODIFIED:20240108T193308Z
UID:10000759-1721199600-1721200200@bethelameannarbor.org
SUMMARY:Daily Prayer
DESCRIPTION:
URL:https://bethelameannarbor.org/event/daily-prayer/2024-07-17/
END:VEVENT
BEGIN:VEVENT
DTSTART;TZID=America/New_York:20240716T070000
DTEND;TZID=America/New_York:20240716T071000
DTSTAMP:20260420T211056
CREATED:20231102T040911Z
LAST-MODIFIED:20240108T193308Z
UID:10000758-1721113200-1721113800@bethelameannarbor.org
SUMMARY:Daily Prayer
DESCRIPTION:
URL:https://bethelameannarbor.org/event/daily-prayer/2024-07-16/
END:VEVENT
BEGIN:VEVENT
DTSTART;TZID=America/New_York:20240715T070000
DTEND;TZID=America/New_York:20240715T071000
DTSTAMP:20260420T211056
CREATED:20231102T040911Z
LAST-MODIFIED:20240108T193308Z
UID:10000757-1721026800-1721027400@bethelameannarbor.org
SUMMARY:Daily Prayer
DESCRIPTION:
URL:https://bethelameannarbor.org/event/daily-prayer/2024-07-15/
END:VEVENT
BEGIN:VEVENT
DTSTART;TZID=America/New_York:20240714T100000
DTEND;TZID=America/New_York:20240714T113000
DTSTAMP:20260420T211056
CREATED:20230730T051524Z
LAST-MODIFIED:20231102T035056Z
UID:10000051-1720951200-1720956600@bethelameannarbor.org
SUMMARY:Sunday Service
DESCRIPTION:
URL:https://bethelameannarbor.org/event/sunday-service/2024-07-14/
LOCATION:Bethel AME Church
CATEGORIES:Services
ATTACH;FMTTYPE=image/jpeg:https://bethelameannarbor.org/wp-content/uploads/2023/07/Pastor-in-pulpit2.jpg
END:VEVENT
BEGIN:VEVENT
DTSTART;TZID=America/New_York:20240713T070000
DTEND;TZID=America/New_York:20240713T071000
DTSTAMP:20260420T211056
CREATED:20231102T040911Z
LAST-MODIFIED:20240108T193308Z
UID:10000756-1720854000-1720854600@bethelameannarbor.org
SUMMARY:Daily Prayer
DESCRIPTION:
URL:https://bethelameannarbor.org/event/daily-prayer/2024-07-13/
END:VEVENT
BEGIN:VEVENT
DTSTART;VALUE=DATE:20240713
DTEND;VALUE=DATE:20240721
DTSTAMP:20260420T211056
CREATED:20240702T222251Z
LAST-MODIFIED:20240702T222251Z
UID:10003401-1720828800-1721519999@bethelameannarbor.org
SUMMARY:Michigan Fine Arts Institute\, Camp Baber\, Cassopolis\, MI
DESCRIPTION:
URL:https://bethelameannarbor.org/event/michigan-fine-arts-institute-camp-baber-cassopolis-mi/
END:VEVENT
BEGIN:VEVENT
DTSTART;TZID=America/New_York:20240712T070000
DTEND;TZID=America/New_York:20240712T071000
DTSTAMP:20260420T211056
CREATED:20231102T040911Z
LAST-MODIFIED:20240108T193308Z
UID:10000755-1720767600-1720768200@bethelameannarbor.org
SUMMARY:Daily Prayer
DESCRIPTION:
URL:https://bethelameannarbor.org/event/daily-prayer/2024-07-12/
END:VEVENT
END:VCALENDAR