BEGIN:VCALENDAR
VERSION:2.0
PRODID:-//Bethel AME Church Ann Arbor - ECPv6.2.5//NONSGML v1.0//EN
CALSCALE:GREGORIAN
METHOD:PUBLISH
X-WR-CALNAME:Bethel AME Church Ann Arbor
X-ORIGINAL-URL:https://bethelameannarbor.org
X-WR-CALDESC:Events for Bethel AME Church Ann Arbor
REFRESH-INTERVAL;VALUE=DURATION:PT1H
X-Robots-Tag:noindex
X-PUBLISHED-TTL:PT1H
BEGIN:VTIMEZONE
TZID:America/New_York
BEGIN:DAYLIGHT
TZOFFSETFROM:-0500
TZOFFSETTO:-0400
TZNAME:EDT
DTSTART:20270314T070000
END:DAYLIGHT
BEGIN:STANDARD
TZOFFSETFROM:-0400
TZOFFSETTO:-0500
TZNAME:EST
DTSTART:20271107T060000
END:STANDARD
END:VTIMEZONE
BEGIN:VEVENT
DTSTART;TZID=America/New_York:20270118T070000
DTEND;TZID=America/New_York:20270118T071000
DTSTAMP:20260419T202114
CREATED:20231102T040911Z
LAST-MODIFIED:20240108T193308Z
UID:10001543-1800255600-1800256200@bethelameannarbor.org
SUMMARY:Daily Prayer
DESCRIPTION:
URL:https://bethelameannarbor.org/event/daily-prayer/2027-01-18/
END:VEVENT
BEGIN:VEVENT
DTSTART;VALUE=DATE:20270119
DTEND;VALUE=DATE:20270120
DTSTAMP:20260419T202114
CREATED:20240108T183016Z
LAST-MODIFIED:20240108T183323Z
UID:10002490-1800316800-1800403199@bethelameannarbor.org
SUMMARY:Rev. Mashod Evans Birthday
DESCRIPTION:Happy birthday Rev. Mashod Evans
URL:https://bethelameannarbor.org/event/rev-mashod-evans-birthday/2027-01-19/
END:VEVENT
BEGIN:VEVENT
DTSTART;TZID=America/New_York:20270119T070000
DTEND;TZID=America/New_York:20270119T071000
DTSTAMP:20260419T202114
CREATED:20231102T040911Z
LAST-MODIFIED:20240108T193308Z
UID:10001544-1800342000-1800342600@bethelameannarbor.org
SUMMARY:Daily Prayer
DESCRIPTION:
URL:https://bethelameannarbor.org/event/daily-prayer/2027-01-19/
END:VEVENT
BEGIN:VEVENT
DTSTART;TZID=America/New_York:20270120T070000
DTEND;TZID=America/New_York:20270120T071000
DTSTAMP:20260419T202114
CREATED:20231102T040911Z
LAST-MODIFIED:20240108T193308Z
UID:10001545-1800428400-1800429000@bethelameannarbor.org
SUMMARY:Daily Prayer
DESCRIPTION:
URL:https://bethelameannarbor.org/event/daily-prayer/2027-01-20/
END:VEVENT
BEGIN:VEVENT
DTSTART;TZID=America/New_York:20270120T193000
DTEND;TZID=America/New_York:20270120T203000
DTSTAMP:20260419T202114
CREATED:20240108T210234Z
LAST-MODIFIED:20240912T155303Z
UID:10002858-1800473400-1800477000@bethelameannarbor.org
SUMMARY:Worship & Praise Team Rehearsal
DESCRIPTION:
URL:https://bethelameannarbor.org/event/worship-praise-team-rehearsal/2027-01-20/
END:VEVENT
BEGIN:VEVENT
DTSTART;TZID=America/New_York:20270121T070000
DTEND;TZID=America/New_York:20270121T071000
DTSTAMP:20260419T202114
CREATED:20231102T040911Z
LAST-MODIFIED:20240108T193308Z
UID:10001546-1800514800-1800515400@bethelameannarbor.org
SUMMARY:Daily Prayer
DESCRIPTION:
URL:https://bethelameannarbor.org/event/daily-prayer/2027-01-21/
END:VEVENT
BEGIN:VEVENT
DTSTART;TZID=America/New_York:20270122T070000
DTEND;TZID=America/New_York:20270122T071000
DTSTAMP:20260419T202114
CREATED:20231102T040911Z
LAST-MODIFIED:20240108T193308Z
UID:10001547-1800601200-1800601800@bethelameannarbor.org
SUMMARY:Daily Prayer
DESCRIPTION:
URL:https://bethelameannarbor.org/event/daily-prayer/2027-01-22/
END:VEVENT
BEGIN:VEVENT
DTSTART;TZID=America/New_York:20270123T070000
DTEND;TZID=America/New_York:20270123T071000
DTSTAMP:20260419T202114
CREATED:20231102T040911Z
LAST-MODIFIED:20240108T193308Z
UID:10001548-1800687600-1800688200@bethelameannarbor.org
SUMMARY:Daily Prayer
DESCRIPTION:
URL:https://bethelameannarbor.org/event/daily-prayer/2027-01-23/
END:VEVENT
BEGIN:VEVENT
DTSTART;TZID=America/New_York:20270124T100000
DTEND;TZID=America/New_York:20270124T113000
DTSTAMP:20260419T202114
CREATED:20230730T051524Z
LAST-MODIFIED:20231102T035056Z
UID:10000183-1800784800-1800790200@bethelameannarbor.org
SUMMARY:Sunday Service
DESCRIPTION:
URL:https://bethelameannarbor.org/event/sunday-service/2027-01-24/
LOCATION:Bethel AME Church
CATEGORIES:Services
ATTACH;FMTTYPE=image/jpeg:https://bethelameannarbor.org/wp-content/uploads/2023/07/Pastor-in-pulpit2.jpg
END:VEVENT
BEGIN:VEVENT
DTSTART;TZID=America/New_York:20270125T070000
DTEND;TZID=America/New_York:20270125T071000
DTSTAMP:20260419T202114
CREATED:20231102T040911Z
LAST-MODIFIED:20240108T193308Z
UID:10001549-1800860400-1800861000@bethelameannarbor.org
SUMMARY:Daily Prayer
DESCRIPTION:
URL:https://bethelameannarbor.org/event/daily-prayer/2027-01-25/
END:VEVENT
BEGIN:VEVENT
DTSTART;TZID=America/New_York:20270126T070000
DTEND;TZID=America/New_York:20270126T071000
DTSTAMP:20260419T202114
CREATED:20231102T040911Z
LAST-MODIFIED:20240108T193308Z
UID:10001550-1800946800-1800947400@bethelameannarbor.org
SUMMARY:Daily Prayer
DESCRIPTION:
URL:https://bethelameannarbor.org/event/daily-prayer/2027-01-26/
END:VEVENT
BEGIN:VEVENT
DTSTART;TZID=America/New_York:20270127T070000
DTEND;TZID=America/New_York:20270127T071000
DTSTAMP:20260419T202114
CREATED:20231102T040911Z
LAST-MODIFIED:20240108T193308Z
UID:10001551-1801033200-1801033800@bethelameannarbor.org
SUMMARY:Daily Prayer
DESCRIPTION:
URL:https://bethelameannarbor.org/event/daily-prayer/2027-01-27/
END:VEVENT
BEGIN:VEVENT
DTSTART;TZID=America/New_York:20270128T070000
DTEND;TZID=America/New_York:20270128T071000
DTSTAMP:20260419T202114
CREATED:20231102T040911Z
LAST-MODIFIED:20240108T193308Z
UID:10001552-1801119600-1801120200@bethelameannarbor.org
SUMMARY:Daily Prayer
DESCRIPTION:
URL:https://bethelameannarbor.org/event/daily-prayer/2027-01-28/
END:VEVENT
BEGIN:VEVENT
DTSTART;TZID=America/New_York:20270129T070000
DTEND;TZID=America/New_York:20270129T071000
DTSTAMP:20260419T202114
CREATED:20231102T040911Z
LAST-MODIFIED:20240108T193308Z
UID:10001553-1801206000-1801206600@bethelameannarbor.org
SUMMARY:Daily Prayer
DESCRIPTION:
URL:https://bethelameannarbor.org/event/daily-prayer/2027-01-29/
END:VEVENT
BEGIN:VEVENT
DTSTART;TZID=America/New_York:20270130T070000
DTEND;TZID=America/New_York:20270130T071000
DTSTAMP:20260419T202114
CREATED:20231102T040911Z
LAST-MODIFIED:20240108T193308Z
UID:10001554-1801292400-1801293000@bethelameannarbor.org
SUMMARY:Daily Prayer
DESCRIPTION:
URL:https://bethelameannarbor.org/event/daily-prayer/2027-01-30/
END:VEVENT
BEGIN:VEVENT
DTSTART;TZID=America/New_York:20270131T100000
DTEND;TZID=America/New_York:20270131T113000
DTSTAMP:20260419T202114
CREATED:20230730T051524Z
LAST-MODIFIED:20231102T035056Z
UID:10000184-1801389600-1801395000@bethelameannarbor.org
SUMMARY:Sunday Service
DESCRIPTION:
URL:https://bethelameannarbor.org/event/sunday-service/2027-01-31/
LOCATION:Bethel AME Church
CATEGORIES:Services
ATTACH;FMTTYPE=image/jpeg:https://bethelameannarbor.org/wp-content/uploads/2023/07/Pastor-in-pulpit2.jpg
END:VEVENT
BEGIN:VEVENT
DTSTART;TZID=America/New_York:20270201T070000
DTEND;TZID=America/New_York:20270201T071000
DTSTAMP:20260419T202114
CREATED:20231102T040911Z
LAST-MODIFIED:20240108T193308Z
UID:10001555-1801465200-1801465800@bethelameannarbor.org
SUMMARY:Daily Prayer
DESCRIPTION:
URL:https://bethelameannarbor.org/event/daily-prayer/2027-02-01/
END:VEVENT
BEGIN:VEVENT
DTSTART;TZID=America/New_York:20270202T070000
DTEND;TZID=America/New_York:20270202T071000
DTSTAMP:20260419T202114
CREATED:20231102T040911Z
LAST-MODIFIED:20240108T193308Z
UID:10001556-1801551600-1801552200@bethelameannarbor.org
SUMMARY:Daily Prayer
DESCRIPTION:
URL:https://bethelameannarbor.org/event/daily-prayer/2027-02-02/
END:VEVENT
BEGIN:VEVENT
DTSTART;TZID=America/New_York:20270203T070000
DTEND;TZID=America/New_York:20270203T071000
DTSTAMP:20260419T202114
CREATED:20231102T040911Z
LAST-MODIFIED:20240108T193308Z
UID:10001557-1801638000-1801638600@bethelameannarbor.org
SUMMARY:Daily Prayer
DESCRIPTION:
URL:https://bethelameannarbor.org/event/daily-prayer/2027-02-03/
END:VEVENT
BEGIN:VEVENT
DTSTART;TZID=America/New_York:20270204T070000
DTEND;TZID=America/New_York:20270204T071000
DTSTAMP:20260419T202114
CREATED:20231102T040911Z
LAST-MODIFIED:20240108T193308Z
UID:10001558-1801724400-1801725000@bethelameannarbor.org
SUMMARY:Daily Prayer
DESCRIPTION:
URL:https://bethelameannarbor.org/event/daily-prayer/2027-02-04/
END:VEVENT
BEGIN:VEVENT
DTSTART;TZID=America/New_York:20270205T070000
DTEND;TZID=America/New_York:20270205T071000
DTSTAMP:20260419T202114
CREATED:20231102T040911Z
LAST-MODIFIED:20240108T193308Z
UID:10001559-1801810800-1801811400@bethelameannarbor.org
SUMMARY:Daily Prayer
DESCRIPTION:
URL:https://bethelameannarbor.org/event/daily-prayer/2027-02-05/
END:VEVENT
BEGIN:VEVENT
DTSTART;TZID=America/New_York:20270206T070000
DTEND;TZID=America/New_York:20270206T071000
DTSTAMP:20260419T202114
CREATED:20231102T040911Z
LAST-MODIFIED:20240108T193308Z
UID:10001560-1801897200-1801897800@bethelameannarbor.org
SUMMARY:Daily Prayer
DESCRIPTION:
URL:https://bethelameannarbor.org/event/daily-prayer/2027-02-06/
END:VEVENT
BEGIN:VEVENT
DTSTART;TZID=America/New_York:20270207T100000
DTEND;TZID=America/New_York:20270207T113000
DTSTAMP:20260419T202114
CREATED:20230730T051524Z
LAST-MODIFIED:20231102T035056Z
UID:10000185-1801994400-1801999800@bethelameannarbor.org
SUMMARY:Sunday Service
DESCRIPTION:
URL:https://bethelameannarbor.org/event/sunday-service/2027-02-07/
LOCATION:Bethel AME Church
CATEGORIES:Services
ATTACH;FMTTYPE=image/jpeg:https://bethelameannarbor.org/wp-content/uploads/2023/07/Pastor-in-pulpit2.jpg
END:VEVENT
BEGIN:VEVENT
DTSTART;TZID=America/New_York:20270207T110000
DTEND;TZID=America/New_York:20270207T113000
DTSTAMP:20260419T202114
CREATED:20240108T210633Z
LAST-MODIFIED:20240108T212110Z
UID:10003220-1801998000-1801999800@bethelameannarbor.org
SUMMARY:Holy Communion Sunday
DESCRIPTION:
URL:https://bethelameannarbor.org/event/holy-communion-sunday/2027-02-07/
END:VEVENT
BEGIN:VEVENT
DTSTART;TZID=America/New_York:20270208T070000
DTEND;TZID=America/New_York:20270208T071000
DTSTAMP:20260419T202114
CREATED:20231102T040911Z
LAST-MODIFIED:20240108T193308Z
UID:10001561-1802070000-1802070600@bethelameannarbor.org
SUMMARY:Daily Prayer
DESCRIPTION:
URL:https://bethelameannarbor.org/event/daily-prayer/2027-02-08/
END:VEVENT
BEGIN:VEVENT
DTSTART;TZID=America/New_York:20270209T070000
DTEND;TZID=America/New_York:20270209T071000
DTSTAMP:20260419T202114
CREATED:20231102T040911Z
LAST-MODIFIED:20240108T193308Z
UID:10001562-1802156400-1802157000@bethelameannarbor.org
SUMMARY:Daily Prayer
DESCRIPTION:
URL:https://bethelameannarbor.org/event/daily-prayer/2027-02-09/
END:VEVENT
BEGIN:VEVENT
DTSTART;TZID=America/New_York:20270209T183000
DTEND;TZID=America/New_York:20270209T193000
DTSTAMP:20260419T202114
CREATED:20240108T210408Z
LAST-MODIFIED:20240108T210408Z
UID:10002919-1802197800-1802201400@bethelameannarbor.org
SUMMARY:Male Chorus Rehearsal
DESCRIPTION:
URL:https://bethelameannarbor.org/event/male-chorus-rehearsal-2/2027-02-09/
END:VEVENT
BEGIN:VEVENT
DTSTART;TZID=America/New_York:20270210T070000
DTEND;TZID=America/New_York:20270210T071000
DTSTAMP:20260419T202114
CREATED:20231102T040911Z
LAST-MODIFIED:20240108T193308Z
UID:10001563-1802242800-1802243400@bethelameannarbor.org
SUMMARY:Daily Prayer
DESCRIPTION:
URL:https://bethelameannarbor.org/event/daily-prayer/2027-02-10/
END:VEVENT
BEGIN:VEVENT
DTSTART;TZID=America/New_York:20270211T070000
DTEND;TZID=America/New_York:20270211T071000
DTSTAMP:20260419T202114
CREATED:20231102T040911Z
LAST-MODIFIED:20240108T193308Z
UID:10001564-1802329200-1802329800@bethelameannarbor.org
SUMMARY:Daily Prayer
DESCRIPTION:
URL:https://bethelameannarbor.org/event/daily-prayer/2027-02-11/
END:VEVENT
BEGIN:VEVENT
DTSTART;TZID=America/New_York:20270212T070000
DTEND;TZID=America/New_York:20270212T071000
DTSTAMP:20260419T202114
CREATED:20231102T040911Z
LAST-MODIFIED:20240108T193308Z
UID:10001565-1802415600-1802416200@bethelameannarbor.org
SUMMARY:Daily Prayer
DESCRIPTION:
URL:https://bethelameannarbor.org/event/daily-prayer/2027-02-12/
END:VEVENT
END:VCALENDAR