BEGIN:VCALENDAR
VERSION:2.0
PRODID:-//Bethel AME Church Ann Arbor - ECPv6.2.5//NONSGML v1.0//EN
CALSCALE:GREGORIAN
METHOD:PUBLISH
X-WR-CALNAME:Bethel AME Church Ann Arbor
X-ORIGINAL-URL:https://bethelameannarbor.org
X-WR-CALDESC:Events for Bethel AME Church Ann Arbor
REFRESH-INTERVAL;VALUE=DURATION:PT1H
X-Robots-Tag:noindex
X-PUBLISHED-TTL:PT1H
BEGIN:VTIMEZONE
TZID:America/New_York
BEGIN:DAYLIGHT
TZOFFSETFROM:-0500
TZOFFSETTO:-0400
TZNAME:EDT
DTSTART:20270314T070000
END:DAYLIGHT
BEGIN:STANDARD
TZOFFSETFROM:-0400
TZOFFSETTO:-0500
TZNAME:EST
DTSTART:20271107T060000
END:STANDARD
END:VTIMEZONE
BEGIN:VEVENT
DTSTART;TZID=America/New_York:20270603T080000
DTEND;TZID=America/New_York:20270719T170000
DTSTAMP:20260423T164241
CREATED:20231109T222617Z
LAST-MODIFIED:20231121T163121Z
UID:10002409-1812009600-1816016400@bethelameannarbor.org
SUMMARY:Bethel Senior Home Repair
DESCRIPTION: 
URL:https://bethelameannarbor.org/event/bethel-senior-home-repair/2027-06-03/
CATEGORIES:Archive,Summer Series
ATTACH;FMTTYPE=image/jpeg:https://bethelameannarbor.org/wp-content/uploads/2023/11/2023-Summer-of-Service_-Bethel-Seniors-Home-Repairs8.jpg
END:VEVENT
BEGIN:VEVENT
DTSTART;TZID=America/New_York:20270711T100000
DTEND;TZID=America/New_York:20270711T113000
DTSTAMP:20260423T164241
CREATED:20230730T051524Z
LAST-MODIFIED:20231102T035056Z
UID:10000207-1815300000-1815305400@bethelameannarbor.org
SUMMARY:Sunday Service
DESCRIPTION:
URL:https://bethelameannarbor.org/event/sunday-service/2027-07-11/
LOCATION:Bethel AME Church
CATEGORIES:Services
ATTACH;FMTTYPE=image/jpeg:https://bethelameannarbor.org/wp-content/uploads/2023/07/Pastor-in-pulpit2.jpg
END:VEVENT
BEGIN:VEVENT
DTSTART;TZID=America/New_York:20270711T113000
DTEND;TZID=America/New_York:20270711T123000
DTSTAMP:20260423T164241
CREATED:20240108T212427Z
LAST-MODIFIED:20240108T212427Z
UID:10003286-1815305400-1815309000@bethelameannarbor.org
SUMMARY:Lay Meeting Following Service\, Small Chapel
DESCRIPTION:
URL:https://bethelameannarbor.org/event/lay-meeting-following-service-small-chapel/2027-07-11/
END:VEVENT
BEGIN:VEVENT
DTSTART;TZID=America/New_York:20270712T070000
DTEND;TZID=America/New_York:20270712T071000
DTSTAMP:20260423T164241
CREATED:20231102T040911Z
LAST-MODIFIED:20240108T193308Z
UID:10001693-1815375600-1815376200@bethelameannarbor.org
SUMMARY:Daily Prayer
DESCRIPTION:
URL:https://bethelameannarbor.org/event/daily-prayer/2027-07-12/
END:VEVENT
BEGIN:VEVENT
DTSTART;TZID=America/New_York:20270713T070000
DTEND;TZID=America/New_York:20270713T071000
DTSTAMP:20260423T164241
CREATED:20231102T040911Z
LAST-MODIFIED:20240108T193308Z
UID:10001694-1815462000-1815462600@bethelameannarbor.org
SUMMARY:Daily Prayer
DESCRIPTION:
URL:https://bethelameannarbor.org/event/daily-prayer/2027-07-13/
END:VEVENT
BEGIN:VEVENT
DTSTART;TZID=America/New_York:20270713T183000
DTEND;TZID=America/New_York:20270713T193000
DTSTAMP:20260423T164241
CREATED:20240108T210408Z
LAST-MODIFIED:20240108T210408Z
UID:10002924-1815503400-1815507000@bethelameannarbor.org
SUMMARY:Male Chorus Rehearsal
DESCRIPTION:
URL:https://bethelameannarbor.org/event/male-chorus-rehearsal-2/2027-07-13/
END:VEVENT
BEGIN:VEVENT
DTSTART;TZID=America/New_York:20270714T070000
DTEND;TZID=America/New_York:20270714T071000
DTSTAMP:20260423T164241
CREATED:20231102T040911Z
LAST-MODIFIED:20240108T193308Z
UID:10001695-1815548400-1815549000@bethelameannarbor.org
SUMMARY:Daily Prayer
DESCRIPTION:
URL:https://bethelameannarbor.org/event/daily-prayer/2027-07-14/
END:VEVENT
BEGIN:VEVENT
DTSTART;TZID=America/New_York:20270715T070000
DTEND;TZID=America/New_York:20270715T071000
DTSTAMP:20260423T164241
CREATED:20231102T040911Z
LAST-MODIFIED:20240108T193308Z
UID:10001696-1815634800-1815635400@bethelameannarbor.org
SUMMARY:Daily Prayer
DESCRIPTION:
URL:https://bethelameannarbor.org/event/daily-prayer/2027-07-15/
END:VEVENT
BEGIN:VEVENT
DTSTART;TZID=America/New_York:20270716T070000
DTEND;TZID=America/New_York:20270716T071000
DTSTAMP:20260423T164241
CREATED:20231102T040911Z
LAST-MODIFIED:20240108T193308Z
UID:10001697-1815721200-1815721800@bethelameannarbor.org
SUMMARY:Daily Prayer
DESCRIPTION:
URL:https://bethelameannarbor.org/event/daily-prayer/2027-07-16/
END:VEVENT
BEGIN:VEVENT
DTSTART;TZID=America/New_York:20270717T070000
DTEND;TZID=America/New_York:20270717T071000
DTSTAMP:20260423T164241
CREATED:20231102T040911Z
LAST-MODIFIED:20240108T193308Z
UID:10001698-1815807600-1815808200@bethelameannarbor.org
SUMMARY:Daily Prayer
DESCRIPTION:
URL:https://bethelameannarbor.org/event/daily-prayer/2027-07-17/
END:VEVENT
BEGIN:VEVENT
DTSTART;TZID=America/New_York:20270718T100000
DTEND;TZID=America/New_York:20270718T113000
DTSTAMP:20260423T164241
CREATED:20230730T051524Z
LAST-MODIFIED:20231102T035056Z
UID:10000208-1815904800-1815910200@bethelameannarbor.org
SUMMARY:Sunday Service
DESCRIPTION:
URL:https://bethelameannarbor.org/event/sunday-service/2027-07-18/
LOCATION:Bethel AME Church
CATEGORIES:Services
ATTACH;FMTTYPE=image/jpeg:https://bethelameannarbor.org/wp-content/uploads/2023/07/Pastor-in-pulpit2.jpg
END:VEVENT
BEGIN:VEVENT
DTSTART;TZID=America/New_York:20270718T120000
DTEND;TZID=America/New_York:20270718T130000
DTSTAMP:20260423T164241
CREATED:20240108T210827Z
LAST-MODIFIED:20240108T211213Z
UID:10003045-1815912000-1815915600@bethelameannarbor.org
SUMMARY:WMS Meets Following Service in Small Chapel
DESCRIPTION:
URL:https://bethelameannarbor.org/event/wms-meets-following-service-in-small-chapel/2027-07-18/
END:VEVENT
BEGIN:VEVENT
DTSTART;TZID=America/New_York:20270719T070000
DTEND;TZID=America/New_York:20270719T071000
DTSTAMP:20260423T164241
CREATED:20231102T040911Z
LAST-MODIFIED:20240108T193308Z
UID:10001699-1815980400-1815981000@bethelameannarbor.org
SUMMARY:Daily Prayer
DESCRIPTION:
URL:https://bethelameannarbor.org/event/daily-prayer/2027-07-19/
END:VEVENT
BEGIN:VEVENT
DTSTART;TZID=America/New_York:20270720T070000
DTEND;TZID=America/New_York:20270720T071000
DTSTAMP:20260423T164241
CREATED:20231102T040911Z
LAST-MODIFIED:20240108T193308Z
UID:10001700-1816066800-1816067400@bethelameannarbor.org
SUMMARY:Daily Prayer
DESCRIPTION:
URL:https://bethelameannarbor.org/event/daily-prayer/2027-07-20/
END:VEVENT
BEGIN:VEVENT
DTSTART;TZID=America/New_York:20270721T070000
DTEND;TZID=America/New_York:20270721T071000
DTSTAMP:20260423T164241
CREATED:20231102T040911Z
LAST-MODIFIED:20240108T193308Z
UID:10001701-1816153200-1816153800@bethelameannarbor.org
SUMMARY:Daily Prayer
DESCRIPTION:
URL:https://bethelameannarbor.org/event/daily-prayer/2027-07-21/
END:VEVENT
BEGIN:VEVENT
DTSTART;TZID=America/New_York:20270721T193000
DTEND;TZID=America/New_York:20270721T203000
DTSTAMP:20260423T164241
CREATED:20240108T210234Z
LAST-MODIFIED:20240912T155303Z
UID:10002864-1816198200-1816201800@bethelameannarbor.org
SUMMARY:Worship & Praise Team Rehearsal
DESCRIPTION:
URL:https://bethelameannarbor.org/event/worship-praise-team-rehearsal/2027-07-21/
END:VEVENT
BEGIN:VEVENT
DTSTART;TZID=America/New_York:20270722T070000
DTEND;TZID=America/New_York:20270722T071000
DTSTAMP:20260423T164241
CREATED:20231102T040911Z
LAST-MODIFIED:20240108T193308Z
UID:10001702-1816239600-1816240200@bethelameannarbor.org
SUMMARY:Daily Prayer
DESCRIPTION:
URL:https://bethelameannarbor.org/event/daily-prayer/2027-07-22/
END:VEVENT
BEGIN:VEVENT
DTSTART;TZID=America/New_York:20270723T070000
DTEND;TZID=America/New_York:20270723T071000
DTSTAMP:20260423T164241
CREATED:20231102T040911Z
LAST-MODIFIED:20240108T193308Z
UID:10001703-1816326000-1816326600@bethelameannarbor.org
SUMMARY:Daily Prayer
DESCRIPTION:
URL:https://bethelameannarbor.org/event/daily-prayer/2027-07-23/
END:VEVENT
BEGIN:VEVENT
DTSTART;TZID=America/New_York:20270724T070000
DTEND;TZID=America/New_York:20270724T071000
DTSTAMP:20260423T164241
CREATED:20231102T040911Z
LAST-MODIFIED:20240108T193308Z
UID:10001704-1816412400-1816413000@bethelameannarbor.org
SUMMARY:Daily Prayer
DESCRIPTION:
URL:https://bethelameannarbor.org/event/daily-prayer/2027-07-24/
END:VEVENT
BEGIN:VEVENT
DTSTART;TZID=America/New_York:20270725T100000
DTEND;TZID=America/New_York:20270725T113000
DTSTAMP:20260423T164241
CREATED:20230730T051524Z
LAST-MODIFIED:20231102T035056Z
UID:10000209-1816509600-1816515000@bethelameannarbor.org
SUMMARY:Sunday Service
DESCRIPTION:
URL:https://bethelameannarbor.org/event/sunday-service/2027-07-25/
LOCATION:Bethel AME Church
CATEGORIES:Services
ATTACH;FMTTYPE=image/jpeg:https://bethelameannarbor.org/wp-content/uploads/2023/07/Pastor-in-pulpit2.jpg
END:VEVENT
BEGIN:VEVENT
DTSTART;TZID=America/New_York:20270726T070000
DTEND;TZID=America/New_York:20270726T071000
DTSTAMP:20260423T164241
CREATED:20231102T040911Z
LAST-MODIFIED:20240108T193308Z
UID:10001705-1816585200-1816585800@bethelameannarbor.org
SUMMARY:Daily Prayer
DESCRIPTION:
URL:https://bethelameannarbor.org/event/daily-prayer/2027-07-26/
END:VEVENT
BEGIN:VEVENT
DTSTART;TZID=America/New_York:20270727T070000
DTEND;TZID=America/New_York:20270727T071000
DTSTAMP:20260423T164241
CREATED:20231102T040911Z
LAST-MODIFIED:20240108T193308Z
UID:10001706-1816671600-1816672200@bethelameannarbor.org
SUMMARY:Daily Prayer
DESCRIPTION:
URL:https://bethelameannarbor.org/event/daily-prayer/2027-07-27/
END:VEVENT
BEGIN:VEVENT
DTSTART;TZID=America/New_York:20270728T070000
DTEND;TZID=America/New_York:20270728T071000
DTSTAMP:20260423T164241
CREATED:20231102T040911Z
LAST-MODIFIED:20240108T193308Z
UID:10001707-1816758000-1816758600@bethelameannarbor.org
SUMMARY:Daily Prayer
DESCRIPTION:
URL:https://bethelameannarbor.org/event/daily-prayer/2027-07-28/
END:VEVENT
BEGIN:VEVENT
DTSTART;TZID=America/New_York:20270729T070000
DTEND;TZID=America/New_York:20270729T071000
DTSTAMP:20260423T164241
CREATED:20231102T040911Z
LAST-MODIFIED:20240108T193308Z
UID:10001708-1816844400-1816845000@bethelameannarbor.org
SUMMARY:Daily Prayer
DESCRIPTION:
URL:https://bethelameannarbor.org/event/daily-prayer/2027-07-29/
END:VEVENT
BEGIN:VEVENT
DTSTART;TZID=America/New_York:20270730T070000
DTEND;TZID=America/New_York:20270730T071000
DTSTAMP:20260423T164241
CREATED:20231102T040911Z
LAST-MODIFIED:20240108T193308Z
UID:10001709-1816930800-1816931400@bethelameannarbor.org
SUMMARY:Daily Prayer
DESCRIPTION:
URL:https://bethelameannarbor.org/event/daily-prayer/2027-07-30/
END:VEVENT
BEGIN:VEVENT
DTSTART;TZID=America/New_York:20270731T070000
DTEND;TZID=America/New_York:20270731T071000
DTSTAMP:20260423T164241
CREATED:20231102T040911Z
LAST-MODIFIED:20240108T193308Z
UID:10001710-1817017200-1817017800@bethelameannarbor.org
SUMMARY:Daily Prayer
DESCRIPTION:
URL:https://bethelameannarbor.org/event/daily-prayer/2027-07-31/
END:VEVENT
BEGIN:VEVENT
DTSTART;TZID=America/New_York:20270801T100000
DTEND;TZID=America/New_York:20270801T113000
DTSTAMP:20260423T164241
CREATED:20230730T051524Z
LAST-MODIFIED:20231102T035056Z
UID:10000210-1817114400-1817119800@bethelameannarbor.org
SUMMARY:Sunday Service
DESCRIPTION:
URL:https://bethelameannarbor.org/event/sunday-service/2027-08-01/
LOCATION:Bethel AME Church
CATEGORIES:Services
ATTACH;FMTTYPE=image/jpeg:https://bethelameannarbor.org/wp-content/uploads/2023/07/Pastor-in-pulpit2.jpg
END:VEVENT
BEGIN:VEVENT
DTSTART;TZID=America/New_York:20270801T110000
DTEND;TZID=America/New_York:20270801T113000
DTSTAMP:20260423T164241
CREATED:20240108T210633Z
LAST-MODIFIED:20240108T212110Z
UID:10003226-1817118000-1817119800@bethelameannarbor.org
SUMMARY:Holy Communion Sunday
DESCRIPTION:
URL:https://bethelameannarbor.org/event/holy-communion-sunday/2027-08-01/
END:VEVENT
BEGIN:VEVENT
DTSTART;TZID=America/New_York:20270802T070000
DTEND;TZID=America/New_York:20270802T071000
DTSTAMP:20260423T164241
CREATED:20231102T040911Z
LAST-MODIFIED:20240108T193308Z
UID:10001711-1817190000-1817190600@bethelameannarbor.org
SUMMARY:Daily Prayer
DESCRIPTION:
URL:https://bethelameannarbor.org/event/daily-prayer/2027-08-02/
END:VEVENT
BEGIN:VEVENT
DTSTART;TZID=America/New_York:20270803T070000
DTEND;TZID=America/New_York:20270803T071000
DTSTAMP:20260423T164241
CREATED:20231102T040911Z
LAST-MODIFIED:20240108T193308Z
UID:10001712-1817276400-1817277000@bethelameannarbor.org
SUMMARY:Daily Prayer
DESCRIPTION:
URL:https://bethelameannarbor.org/event/daily-prayer/2027-08-03/
END:VEVENT
END:VCALENDAR