BEGIN:VCALENDAR
VERSION:2.0
PRODID:-//Bethel AME Church Ann Arbor - ECPv6.2.5//NONSGML v1.0//EN
CALSCALE:GREGORIAN
METHOD:PUBLISH
X-ORIGINAL-URL:https://bethelameannarbor.org
X-WR-CALDESC:Events for Bethel AME Church Ann Arbor
REFRESH-INTERVAL;VALUE=DURATION:PT1H
X-Robots-Tag:noindex
X-PUBLISHED-TTL:PT1H
BEGIN:VTIMEZONE
TZID:America/New_York
BEGIN:DAYLIGHT
TZOFFSETFROM:-0500
TZOFFSETTO:-0400
TZNAME:EDT
DTSTART:20270314T070000
END:DAYLIGHT
BEGIN:STANDARD
TZOFFSETFROM:-0400
TZOFFSETTO:-0500
TZNAME:EST
DTSTART:20271107T060000
END:STANDARD
END:VTIMEZONE
BEGIN:VEVENT
DTSTART;TZID=America/New_York:20270723T070000
DTEND;TZID=America/New_York:20270723T071000
DTSTAMP:20260423T211054
CREATED:20231102T040911Z
LAST-MODIFIED:20240108T193308Z
UID:10001703-1816326000-1816326600@bethelameannarbor.org
SUMMARY:Daily Prayer
DESCRIPTION:
URL:https://bethelameannarbor.org/event/daily-prayer/2027-07-23/
END:VEVENT
BEGIN:VEVENT
DTSTART;TZID=America/New_York:20270724T070000
DTEND;TZID=America/New_York:20270724T071000
DTSTAMP:20260423T211054
CREATED:20231102T040911Z
LAST-MODIFIED:20240108T193308Z
UID:10001704-1816412400-1816413000@bethelameannarbor.org
SUMMARY:Daily Prayer
DESCRIPTION:
URL:https://bethelameannarbor.org/event/daily-prayer/2027-07-24/
END:VEVENT
BEGIN:VEVENT
DTSTART;TZID=America/New_York:20270725T100000
DTEND;TZID=America/New_York:20270725T113000
DTSTAMP:20260423T211054
CREATED:20230730T051524Z
LAST-MODIFIED:20231102T035056Z
UID:10000209-1816509600-1816515000@bethelameannarbor.org
SUMMARY:Sunday Service
DESCRIPTION:
URL:https://bethelameannarbor.org/event/sunday-service/2027-07-25/
LOCATION:Bethel AME Church
CATEGORIES:Services
ATTACH;FMTTYPE=image/jpeg:https://bethelameannarbor.org/wp-content/uploads/2023/07/Pastor-in-pulpit2.jpg
END:VEVENT
BEGIN:VEVENT
DTSTART;TZID=America/New_York:20270726T070000
DTEND;TZID=America/New_York:20270726T071000
DTSTAMP:20260423T211054
CREATED:20231102T040911Z
LAST-MODIFIED:20240108T193308Z
UID:10001705-1816585200-1816585800@bethelameannarbor.org
SUMMARY:Daily Prayer
DESCRIPTION:
URL:https://bethelameannarbor.org/event/daily-prayer/2027-07-26/
END:VEVENT
BEGIN:VEVENT
DTSTART;TZID=America/New_York:20270727T070000
DTEND;TZID=America/New_York:20270727T071000
DTSTAMP:20260423T211054
CREATED:20231102T040911Z
LAST-MODIFIED:20240108T193308Z
UID:10001706-1816671600-1816672200@bethelameannarbor.org
SUMMARY:Daily Prayer
DESCRIPTION:
URL:https://bethelameannarbor.org/event/daily-prayer/2027-07-27/
END:VEVENT
BEGIN:VEVENT
DTSTART;TZID=America/New_York:20270728T070000
DTEND;TZID=America/New_York:20270728T071000
DTSTAMP:20260423T211054
CREATED:20231102T040911Z
LAST-MODIFIED:20240108T193308Z
UID:10001707-1816758000-1816758600@bethelameannarbor.org
SUMMARY:Daily Prayer
DESCRIPTION:
URL:https://bethelameannarbor.org/event/daily-prayer/2027-07-28/
END:VEVENT
BEGIN:VEVENT
DTSTART;TZID=America/New_York:20270729T070000
DTEND;TZID=America/New_York:20270729T071000
DTSTAMP:20260423T211054
CREATED:20231102T040911Z
LAST-MODIFIED:20240108T193308Z
UID:10001708-1816844400-1816845000@bethelameannarbor.org
SUMMARY:Daily Prayer
DESCRIPTION:
URL:https://bethelameannarbor.org/event/daily-prayer/2027-07-29/
END:VEVENT
BEGIN:VEVENT
DTSTART;TZID=America/New_York:20270730T070000
DTEND;TZID=America/New_York:20270730T071000
DTSTAMP:20260423T211054
CREATED:20231102T040911Z
LAST-MODIFIED:20240108T193308Z
UID:10001709-1816930800-1816931400@bethelameannarbor.org
SUMMARY:Daily Prayer
DESCRIPTION:
URL:https://bethelameannarbor.org/event/daily-prayer/2027-07-30/
END:VEVENT
BEGIN:VEVENT
DTSTART;TZID=America/New_York:20270731T070000
DTEND;TZID=America/New_York:20270731T071000
DTSTAMP:20260423T211054
CREATED:20231102T040911Z
LAST-MODIFIED:20240108T193308Z
UID:10001710-1817017200-1817017800@bethelameannarbor.org
SUMMARY:Daily Prayer
DESCRIPTION:
URL:https://bethelameannarbor.org/event/daily-prayer/2027-07-31/
END:VEVENT
BEGIN:VEVENT
DTSTART;TZID=America/New_York:20270801T100000
DTEND;TZID=America/New_York:20270801T113000
DTSTAMP:20260423T211054
CREATED:20230730T051524Z
LAST-MODIFIED:20231102T035056Z
UID:10000210-1817114400-1817119800@bethelameannarbor.org
SUMMARY:Sunday Service
DESCRIPTION:
URL:https://bethelameannarbor.org/event/sunday-service/2027-08-01/
LOCATION:Bethel AME Church
CATEGORIES:Services
ATTACH;FMTTYPE=image/jpeg:https://bethelameannarbor.org/wp-content/uploads/2023/07/Pastor-in-pulpit2.jpg
END:VEVENT
BEGIN:VEVENT
DTSTART;TZID=America/New_York:20270801T110000
DTEND;TZID=America/New_York:20270801T113000
DTSTAMP:20260423T211054
CREATED:20240108T210633Z
LAST-MODIFIED:20240108T212110Z
UID:10003226-1817118000-1817119800@bethelameannarbor.org
SUMMARY:Holy Communion Sunday
DESCRIPTION:
URL:https://bethelameannarbor.org/event/holy-communion-sunday/2027-08-01/
END:VEVENT
BEGIN:VEVENT
DTSTART;TZID=America/New_York:20270802T070000
DTEND;TZID=America/New_York:20270802T071000
DTSTAMP:20260423T211054
CREATED:20231102T040911Z
LAST-MODIFIED:20240108T193308Z
UID:10001711-1817190000-1817190600@bethelameannarbor.org
SUMMARY:Daily Prayer
DESCRIPTION:
URL:https://bethelameannarbor.org/event/daily-prayer/2027-08-02/
END:VEVENT
BEGIN:VEVENT
DTSTART;TZID=America/New_York:20270803T070000
DTEND;TZID=America/New_York:20270803T071000
DTSTAMP:20260423T211054
CREATED:20231102T040911Z
LAST-MODIFIED:20240108T193308Z
UID:10001712-1817276400-1817277000@bethelameannarbor.org
SUMMARY:Daily Prayer
DESCRIPTION:
URL:https://bethelameannarbor.org/event/daily-prayer/2027-08-03/
END:VEVENT
BEGIN:VEVENT
DTSTART;TZID=America/New_York:20270804T070000
DTEND;TZID=America/New_York:20270804T071000
DTSTAMP:20260423T211054
CREATED:20231102T040911Z
LAST-MODIFIED:20240108T193308Z
UID:10001713-1817362800-1817363400@bethelameannarbor.org
SUMMARY:Daily Prayer
DESCRIPTION:
URL:https://bethelameannarbor.org/event/daily-prayer/2027-08-04/
END:VEVENT
BEGIN:VEVENT
DTSTART;TZID=America/New_York:20270805T070000
DTEND;TZID=America/New_York:20270805T071000
DTSTAMP:20260423T211054
CREATED:20231102T040911Z
LAST-MODIFIED:20240108T193308Z
UID:10001714-1817449200-1817449800@bethelameannarbor.org
SUMMARY:Daily Prayer
DESCRIPTION:
URL:https://bethelameannarbor.org/event/daily-prayer/2027-08-05/
END:VEVENT
BEGIN:VEVENT
DTSTART;TZID=America/New_York:20270806T070000
DTEND;TZID=America/New_York:20270806T071000
DTSTAMP:20260423T211054
CREATED:20231102T040911Z
LAST-MODIFIED:20240108T193308Z
UID:10001715-1817535600-1817536200@bethelameannarbor.org
SUMMARY:Daily Prayer
DESCRIPTION:
URL:https://bethelameannarbor.org/event/daily-prayer/2027-08-06/
END:VEVENT
BEGIN:VEVENT
DTSTART;TZID=America/New_York:20270807T070000
DTEND;TZID=America/New_York:20270807T071000
DTSTAMP:20260423T211054
CREATED:20231102T040911Z
LAST-MODIFIED:20240108T193308Z
UID:10001716-1817622000-1817622600@bethelameannarbor.org
SUMMARY:Daily Prayer
DESCRIPTION:
URL:https://bethelameannarbor.org/event/daily-prayer/2027-08-07/
END:VEVENT
BEGIN:VEVENT
DTSTART;TZID=America/New_York:20270808T100000
DTEND;TZID=America/New_York:20270808T113000
DTSTAMP:20260423T211054
CREATED:20230730T051524Z
LAST-MODIFIED:20231102T035056Z
UID:10000211-1817719200-1817724600@bethelameannarbor.org
SUMMARY:Sunday Service
DESCRIPTION:
URL:https://bethelameannarbor.org/event/sunday-service/2027-08-08/
LOCATION:Bethel AME Church
CATEGORIES:Services
ATTACH;FMTTYPE=image/jpeg:https://bethelameannarbor.org/wp-content/uploads/2023/07/Pastor-in-pulpit2.jpg
END:VEVENT
BEGIN:VEVENT
DTSTART;TZID=America/New_York:20270808T113000
DTEND;TZID=America/New_York:20270808T123000
DTSTAMP:20260423T211054
CREATED:20240108T212427Z
LAST-MODIFIED:20240108T212427Z
UID:10003287-1817724600-1817728200@bethelameannarbor.org
SUMMARY:Lay Meeting Following Service\, Small Chapel
DESCRIPTION:
URL:https://bethelameannarbor.org/event/lay-meeting-following-service-small-chapel/2027-08-08/
END:VEVENT
BEGIN:VEVENT
DTSTART;TZID=America/New_York:20270809T070000
DTEND;TZID=America/New_York:20270809T071000
DTSTAMP:20260423T211054
CREATED:20231102T040911Z
LAST-MODIFIED:20240108T193308Z
UID:10001717-1817794800-1817795400@bethelameannarbor.org
SUMMARY:Daily Prayer
DESCRIPTION:
URL:https://bethelameannarbor.org/event/daily-prayer/2027-08-09/
END:VEVENT
BEGIN:VEVENT
DTSTART;TZID=America/New_York:20270810T070000
DTEND;TZID=America/New_York:20270810T071000
DTSTAMP:20260423T211054
CREATED:20231102T040911Z
LAST-MODIFIED:20240108T193308Z
UID:10001718-1817881200-1817881800@bethelameannarbor.org
SUMMARY:Daily Prayer
DESCRIPTION:
URL:https://bethelameannarbor.org/event/daily-prayer/2027-08-10/
END:VEVENT
BEGIN:VEVENT
DTSTART;TZID=America/New_York:20270810T183000
DTEND;TZID=America/New_York:20270810T193000
DTSTAMP:20260423T211054
CREATED:20240108T210408Z
LAST-MODIFIED:20240108T210408Z
UID:10002925-1817922600-1817926200@bethelameannarbor.org
SUMMARY:Male Chorus Rehearsal
DESCRIPTION:
URL:https://bethelameannarbor.org/event/male-chorus-rehearsal-2/2027-08-10/
END:VEVENT
BEGIN:VEVENT
DTSTART;TZID=America/New_York:20270811T070000
DTEND;TZID=America/New_York:20270811T071000
DTSTAMP:20260423T211054
CREATED:20231102T040911Z
LAST-MODIFIED:20240108T193308Z
UID:10001719-1817967600-1817968200@bethelameannarbor.org
SUMMARY:Daily Prayer
DESCRIPTION:
URL:https://bethelameannarbor.org/event/daily-prayer/2027-08-11/
END:VEVENT
BEGIN:VEVENT
DTSTART;TZID=America/New_York:20270812T070000
DTEND;TZID=America/New_York:20270812T071000
DTSTAMP:20260423T211054
CREATED:20231102T040911Z
LAST-MODIFIED:20240108T193308Z
UID:10001720-1818054000-1818054600@bethelameannarbor.org
SUMMARY:Daily Prayer
DESCRIPTION:
URL:https://bethelameannarbor.org/event/daily-prayer/2027-08-12/
END:VEVENT
BEGIN:VEVENT
DTSTART;TZID=America/New_York:20270813T070000
DTEND;TZID=America/New_York:20270813T071000
DTSTAMP:20260423T211054
CREATED:20231102T040911Z
LAST-MODIFIED:20240108T193308Z
UID:10001721-1818140400-1818141000@bethelameannarbor.org
SUMMARY:Daily Prayer
DESCRIPTION:
URL:https://bethelameannarbor.org/event/daily-prayer/2027-08-13/
END:VEVENT
BEGIN:VEVENT
DTSTART;TZID=America/New_York:20270814T070000
DTEND;TZID=America/New_York:20270814T071000
DTSTAMP:20260423T211054
CREATED:20231102T040911Z
LAST-MODIFIED:20240108T193308Z
UID:10001722-1818226800-1818227400@bethelameannarbor.org
SUMMARY:Daily Prayer
DESCRIPTION:
URL:https://bethelameannarbor.org/event/daily-prayer/2027-08-14/
END:VEVENT
BEGIN:VEVENT
DTSTART;TZID=America/New_York:20270815T100000
DTEND;TZID=America/New_York:20270815T113000
DTSTAMP:20260423T211054
CREATED:20230730T051524Z
LAST-MODIFIED:20231102T035056Z
UID:10000212-1818324000-1818329400@bethelameannarbor.org
SUMMARY:Sunday Service
DESCRIPTION:
URL:https://bethelameannarbor.org/event/sunday-service/2027-08-15/
LOCATION:Bethel AME Church
CATEGORIES:Services
ATTACH;FMTTYPE=image/jpeg:https://bethelameannarbor.org/wp-content/uploads/2023/07/Pastor-in-pulpit2.jpg
END:VEVENT
BEGIN:VEVENT
DTSTART;TZID=America/New_York:20270815T120000
DTEND;TZID=America/New_York:20270815T130000
DTSTAMP:20260423T211054
CREATED:20240108T210827Z
LAST-MODIFIED:20240108T211213Z
UID:10003046-1818331200-1818334800@bethelameannarbor.org
SUMMARY:WMS Meets Following Service in Small Chapel
DESCRIPTION:
URL:https://bethelameannarbor.org/event/wms-meets-following-service-in-small-chapel/2027-08-15/
END:VEVENT
BEGIN:VEVENT
DTSTART;TZID=America/New_York:20270816T070000
DTEND;TZID=America/New_York:20270816T071000
DTSTAMP:20260423T211054
CREATED:20231102T040911Z
LAST-MODIFIED:20240108T193308Z
UID:10001723-1818399600-1818400200@bethelameannarbor.org
SUMMARY:Daily Prayer
DESCRIPTION:
URL:https://bethelameannarbor.org/event/daily-prayer/2027-08-16/
END:VEVENT
BEGIN:VEVENT
DTSTART;TZID=America/New_York:20270817T070000
DTEND;TZID=America/New_York:20270817T071000
DTSTAMP:20260423T211054
CREATED:20231102T040911Z
LAST-MODIFIED:20240108T193308Z
UID:10001724-1818486000-1818486600@bethelameannarbor.org
SUMMARY:Daily Prayer
DESCRIPTION:
URL:https://bethelameannarbor.org/event/daily-prayer/2027-08-17/
END:VEVENT
END:VCALENDAR