BEGIN:VCALENDAR
VERSION:2.0
PRODID:-//Bethel AME Church Ann Arbor - ECPv6.2.5//NONSGML v1.0//EN
CALSCALE:GREGORIAN
METHOD:PUBLISH
X-WR-CALNAME:Bethel AME Church Ann Arbor
X-ORIGINAL-URL:https://bethelameannarbor.org
X-WR-CALDESC:Events for Bethel AME Church Ann Arbor
REFRESH-INTERVAL;VALUE=DURATION:PT1H
X-Robots-Tag:noindex
X-PUBLISHED-TTL:PT1H
BEGIN:VTIMEZONE
TZID:America/New_York
BEGIN:DAYLIGHT
TZOFFSETFROM:-0500
TZOFFSETTO:-0400
TZNAME:EDT
DTSTART:20260308T070000
END:DAYLIGHT
BEGIN:STANDARD
TZOFFSETFROM:-0400
TZOFFSETTO:-0500
TZNAME:EST
DTSTART:20261101T060000
END:STANDARD
BEGIN:DAYLIGHT
TZOFFSETFROM:-0500
TZOFFSETTO:-0400
TZNAME:EDT
DTSTART:20270314T070000
END:DAYLIGHT
BEGIN:STANDARD
TZOFFSETFROM:-0400
TZOFFSETTO:-0500
TZNAME:EST
DTSTART:20271107T060000
END:STANDARD
END:VTIMEZONE
BEGIN:VEVENT
DTSTART;TZID=America/New_York:20261230T070000
DTEND;TZID=America/New_York:20261230T071000
DTSTAMP:20260419T183239
CREATED:20231102T040911Z
LAST-MODIFIED:20240108T193308Z
UID:10001527-1798614000-1798614600@bethelameannarbor.org
SUMMARY:Daily Prayer
DESCRIPTION:
URL:https://bethelameannarbor.org/event/daily-prayer/2026-12-30/
END:VEVENT
BEGIN:VEVENT
DTSTART;TZID=America/New_York:20261231T070000
DTEND;TZID=America/New_York:20261231T071000
DTSTAMP:20260419T183239
CREATED:20231102T040911Z
LAST-MODIFIED:20240108T193308Z
UID:10001528-1798700400-1798701000@bethelameannarbor.org
SUMMARY:Daily Prayer
DESCRIPTION:
URL:https://bethelameannarbor.org/event/daily-prayer/2026-12-31/
END:VEVENT
BEGIN:VEVENT
DTSTART;TZID=America/New_York:20270101T070000
DTEND;TZID=America/New_York:20270101T071000
DTSTAMP:20260419T183239
CREATED:20231102T040911Z
LAST-MODIFIED:20240108T193308Z
UID:10001529-1798786800-1798787400@bethelameannarbor.org
SUMMARY:Daily Prayer
DESCRIPTION:
URL:https://bethelameannarbor.org/event/daily-prayer/2027-01-01/
END:VEVENT
BEGIN:VEVENT
DTSTART;TZID=America/New_York:20270102T070000
DTEND;TZID=America/New_York:20270102T071000
DTSTAMP:20260419T183239
CREATED:20231102T040911Z
LAST-MODIFIED:20240108T193308Z
UID:10001530-1798873200-1798873800@bethelameannarbor.org
SUMMARY:Daily Prayer
DESCRIPTION:
URL:https://bethelameannarbor.org/event/daily-prayer/2027-01-02/
END:VEVENT
BEGIN:VEVENT
DTSTART;VALUE=DATE:20270103
DTEND;VALUE=DATE:20270125
DTSTAMP:20260419T183239
CREATED:20231215T174549Z
LAST-MODIFIED:20240126T182322Z
UID:10003307-1798934400-1800835199@bethelameannarbor.org
SUMMARY:Daniel Fast
DESCRIPTION:
URL:https://bethelameannarbor.org/event/daniel-fast/2027-01-03/
CATEGORIES:Daniel Fast
ATTACH;FMTTYPE=image/jpeg:https://bethelameannarbor.org/wp-content/uploads/2024/01/danielfast1.jpg
END:VEVENT
BEGIN:VEVENT
DTSTART;TZID=America/New_York:20270103T100000
DTEND;TZID=America/New_York:20270103T113000
DTSTAMP:20260419T183239
CREATED:20230730T051524Z
LAST-MODIFIED:20231102T035056Z
UID:10000180-1798970400-1798975800@bethelameannarbor.org
SUMMARY:Sunday Service
DESCRIPTION:
URL:https://bethelameannarbor.org/event/sunday-service/2027-01-03/
LOCATION:Bethel AME Church
CATEGORIES:Services
ATTACH;FMTTYPE=image/jpeg:https://bethelameannarbor.org/wp-content/uploads/2023/07/Pastor-in-pulpit2.jpg
END:VEVENT
BEGIN:VEVENT
DTSTART;TZID=America/New_York:20270103T110000
DTEND;TZID=America/New_York:20270103T113000
DTSTAMP:20260419T183239
CREATED:20240108T210633Z
LAST-MODIFIED:20240108T212110Z
UID:10003219-1798974000-1798975800@bethelameannarbor.org
SUMMARY:Holy Communion Sunday
DESCRIPTION:
URL:https://bethelameannarbor.org/event/holy-communion-sunday/2027-01-03/
END:VEVENT
BEGIN:VEVENT
DTSTART;TZID=America/New_York:20270104T070000
DTEND;TZID=America/New_York:20270104T071000
DTSTAMP:20260419T183239
CREATED:20231102T040911Z
LAST-MODIFIED:20240108T193308Z
UID:10001531-1799046000-1799046600@bethelameannarbor.org
SUMMARY:Daily Prayer
DESCRIPTION:
URL:https://bethelameannarbor.org/event/daily-prayer/2027-01-04/
END:VEVENT
BEGIN:VEVENT
DTSTART;TZID=America/New_York:20270105T070000
DTEND;TZID=America/New_York:20270105T071000
DTSTAMP:20260419T183239
CREATED:20231102T040911Z
LAST-MODIFIED:20240108T193308Z
UID:10001532-1799132400-1799133000@bethelameannarbor.org
SUMMARY:Daily Prayer
DESCRIPTION:
URL:https://bethelameannarbor.org/event/daily-prayer/2027-01-05/
END:VEVENT
BEGIN:VEVENT
DTSTART;TZID=America/New_York:20270106T070000
DTEND;TZID=America/New_York:20270106T071000
DTSTAMP:20260419T183239
CREATED:20231102T040911Z
LAST-MODIFIED:20240108T193308Z
UID:10001533-1799218800-1799219400@bethelameannarbor.org
SUMMARY:Daily Prayer
DESCRIPTION:
URL:https://bethelameannarbor.org/event/daily-prayer/2027-01-06/
END:VEVENT
BEGIN:VEVENT
DTSTART;TZID=America/New_York:20270107T070000
DTEND;TZID=America/New_York:20270107T071000
DTSTAMP:20260419T183239
CREATED:20231102T040911Z
LAST-MODIFIED:20240108T193308Z
UID:10001534-1799305200-1799305800@bethelameannarbor.org
SUMMARY:Daily Prayer
DESCRIPTION:
URL:https://bethelameannarbor.org/event/daily-prayer/2027-01-07/
END:VEVENT
BEGIN:VEVENT
DTSTART;TZID=America/New_York:20270108T070000
DTEND;TZID=America/New_York:20270108T071000
DTSTAMP:20260419T183239
CREATED:20231102T040911Z
LAST-MODIFIED:20240108T193308Z
UID:10001535-1799391600-1799392200@bethelameannarbor.org
SUMMARY:Daily Prayer
DESCRIPTION:
URL:https://bethelameannarbor.org/event/daily-prayer/2027-01-08/
END:VEVENT
BEGIN:VEVENT
DTSTART;TZID=America/New_York:20270109T070000
DTEND;TZID=America/New_York:20270109T071000
DTSTAMP:20260419T183239
CREATED:20231102T040911Z
LAST-MODIFIED:20240108T193308Z
UID:10001536-1799478000-1799478600@bethelameannarbor.org
SUMMARY:Daily Prayer
DESCRIPTION:
URL:https://bethelameannarbor.org/event/daily-prayer/2027-01-09/
END:VEVENT
BEGIN:VEVENT
DTSTART;TZID=America/New_York:20270110T100000
DTEND;TZID=America/New_York:20270110T113000
DTSTAMP:20260419T183239
CREATED:20230730T051524Z
LAST-MODIFIED:20231102T035056Z
UID:10000181-1799575200-1799580600@bethelameannarbor.org
SUMMARY:Sunday Service
DESCRIPTION:
URL:https://bethelameannarbor.org/event/sunday-service/2027-01-10/
LOCATION:Bethel AME Church
CATEGORIES:Services
ATTACH;FMTTYPE=image/jpeg:https://bethelameannarbor.org/wp-content/uploads/2023/07/Pastor-in-pulpit2.jpg
END:VEVENT
BEGIN:VEVENT
DTSTART;TZID=America/New_York:20270110T113000
DTEND;TZID=America/New_York:20270110T123000
DTSTAMP:20260419T183239
CREATED:20240108T212427Z
LAST-MODIFIED:20240108T212427Z
UID:10003280-1799580600-1799584200@bethelameannarbor.org
SUMMARY:Lay Meeting Following Service\, Small Chapel
DESCRIPTION:
URL:https://bethelameannarbor.org/event/lay-meeting-following-service-small-chapel/2027-01-10/
END:VEVENT
BEGIN:VEVENT
DTSTART;TZID=America/New_York:20270111T070000
DTEND;TZID=America/New_York:20270111T071000
DTSTAMP:20260419T183239
CREATED:20231102T040911Z
LAST-MODIFIED:20240108T193308Z
UID:10001537-1799650800-1799651400@bethelameannarbor.org
SUMMARY:Daily Prayer
DESCRIPTION:
URL:https://bethelameannarbor.org/event/daily-prayer/2027-01-11/
END:VEVENT
BEGIN:VEVENT
DTSTART;TZID=America/New_York:20270112T070000
DTEND;TZID=America/New_York:20270112T071000
DTSTAMP:20260419T183239
CREATED:20231102T040911Z
LAST-MODIFIED:20240108T193308Z
UID:10001538-1799737200-1799737800@bethelameannarbor.org
SUMMARY:Daily Prayer
DESCRIPTION:
URL:https://bethelameannarbor.org/event/daily-prayer/2027-01-12/
END:VEVENT
BEGIN:VEVENT
DTSTART;TZID=America/New_York:20270112T183000
DTEND;TZID=America/New_York:20270112T193000
DTSTAMP:20260419T183239
CREATED:20240108T210408Z
LAST-MODIFIED:20240108T210408Z
UID:10002918-1799778600-1799782200@bethelameannarbor.org
SUMMARY:Male Chorus Rehearsal
DESCRIPTION:
URL:https://bethelameannarbor.org/event/male-chorus-rehearsal-2/2027-01-12/
END:VEVENT
BEGIN:VEVENT
DTSTART;TZID=America/New_York:20270113T070000
DTEND;TZID=America/New_York:20270113T071000
DTSTAMP:20260419T183239
CREATED:20231102T040911Z
LAST-MODIFIED:20240108T193308Z
UID:10001539-1799823600-1799824200@bethelameannarbor.org
SUMMARY:Daily Prayer
DESCRIPTION:
URL:https://bethelameannarbor.org/event/daily-prayer/2027-01-13/
END:VEVENT
BEGIN:VEVENT
DTSTART;TZID=America/New_York:20270114T070000
DTEND;TZID=America/New_York:20270114T071000
DTSTAMP:20260419T183239
CREATED:20231102T040911Z
LAST-MODIFIED:20240108T193308Z
UID:10001540-1799910000-1799910600@bethelameannarbor.org
SUMMARY:Daily Prayer
DESCRIPTION:
URL:https://bethelameannarbor.org/event/daily-prayer/2027-01-14/
END:VEVENT
BEGIN:VEVENT
DTSTART;TZID=America/New_York:20270115T070000
DTEND;TZID=America/New_York:20270115T071000
DTSTAMP:20260419T183239
CREATED:20231102T040911Z
LAST-MODIFIED:20240108T193308Z
UID:10001541-1799996400-1799997000@bethelameannarbor.org
SUMMARY:Daily Prayer
DESCRIPTION:
URL:https://bethelameannarbor.org/event/daily-prayer/2027-01-15/
END:VEVENT
BEGIN:VEVENT
DTSTART;TZID=America/New_York:20270116T070000
DTEND;TZID=America/New_York:20270116T071000
DTSTAMP:20260419T183239
CREATED:20231102T040911Z
LAST-MODIFIED:20240108T193308Z
UID:10001542-1800082800-1800083400@bethelameannarbor.org
SUMMARY:Daily Prayer
DESCRIPTION:
URL:https://bethelameannarbor.org/event/daily-prayer/2027-01-16/
END:VEVENT
BEGIN:VEVENT
DTSTART;TZID=America/New_York:20270117T100000
DTEND;TZID=America/New_York:20270117T113000
DTSTAMP:20260419T183239
CREATED:20230730T051524Z
LAST-MODIFIED:20231102T035056Z
UID:10000182-1800180000-1800185400@bethelameannarbor.org
SUMMARY:Sunday Service
DESCRIPTION:
URL:https://bethelameannarbor.org/event/sunday-service/2027-01-17/
LOCATION:Bethel AME Church
CATEGORIES:Services
ATTACH;FMTTYPE=image/jpeg:https://bethelameannarbor.org/wp-content/uploads/2023/07/Pastor-in-pulpit2.jpg
END:VEVENT
BEGIN:VEVENT
DTSTART;TZID=America/New_York:20270117T120000
DTEND;TZID=America/New_York:20270117T130000
DTSTAMP:20260419T183239
CREATED:20240108T210827Z
LAST-MODIFIED:20240108T211213Z
UID:10003039-1800187200-1800190800@bethelameannarbor.org
SUMMARY:WMS Meets Following Service in Small Chapel
DESCRIPTION:
URL:https://bethelameannarbor.org/event/wms-meets-following-service-in-small-chapel/2027-01-17/
END:VEVENT
BEGIN:VEVENT
DTSTART;TZID=America/New_York:20270118T070000
DTEND;TZID=America/New_York:20270118T071000
DTSTAMP:20260419T183239
CREATED:20231102T040911Z
LAST-MODIFIED:20240108T193308Z
UID:10001543-1800255600-1800256200@bethelameannarbor.org
SUMMARY:Daily Prayer
DESCRIPTION:
URL:https://bethelameannarbor.org/event/daily-prayer/2027-01-18/
END:VEVENT
BEGIN:VEVENT
DTSTART;VALUE=DATE:20270119
DTEND;VALUE=DATE:20270120
DTSTAMP:20260419T183239
CREATED:20240108T183016Z
LAST-MODIFIED:20240108T183323Z
UID:10002490-1800316800-1800403199@bethelameannarbor.org
SUMMARY:Rev. Mashod Evans Birthday
DESCRIPTION:Happy birthday Rev. Mashod Evans
URL:https://bethelameannarbor.org/event/rev-mashod-evans-birthday/2027-01-19/
END:VEVENT
BEGIN:VEVENT
DTSTART;TZID=America/New_York:20270119T070000
DTEND;TZID=America/New_York:20270119T071000
DTSTAMP:20260419T183239
CREATED:20231102T040911Z
LAST-MODIFIED:20240108T193308Z
UID:10001544-1800342000-1800342600@bethelameannarbor.org
SUMMARY:Daily Prayer
DESCRIPTION:
URL:https://bethelameannarbor.org/event/daily-prayer/2027-01-19/
END:VEVENT
BEGIN:VEVENT
DTSTART;TZID=America/New_York:20270120T070000
DTEND;TZID=America/New_York:20270120T071000
DTSTAMP:20260419T183239
CREATED:20231102T040911Z
LAST-MODIFIED:20240108T193308Z
UID:10001545-1800428400-1800429000@bethelameannarbor.org
SUMMARY:Daily Prayer
DESCRIPTION:
URL:https://bethelameannarbor.org/event/daily-prayer/2027-01-20/
END:VEVENT
BEGIN:VEVENT
DTSTART;TZID=America/New_York:20270120T193000
DTEND;TZID=America/New_York:20270120T203000
DTSTAMP:20260419T183239
CREATED:20240108T210234Z
LAST-MODIFIED:20240912T155303Z
UID:10002858-1800473400-1800477000@bethelameannarbor.org
SUMMARY:Worship & Praise Team Rehearsal
DESCRIPTION:
URL:https://bethelameannarbor.org/event/worship-praise-team-rehearsal/2027-01-20/
END:VEVENT
BEGIN:VEVENT
DTSTART;TZID=America/New_York:20270121T070000
DTEND;TZID=America/New_York:20270121T071000
DTSTAMP:20260419T183239
CREATED:20231102T040911Z
LAST-MODIFIED:20240108T193308Z
UID:10001546-1800514800-1800515400@bethelameannarbor.org
SUMMARY:Daily Prayer
DESCRIPTION:
URL:https://bethelameannarbor.org/event/daily-prayer/2027-01-21/
END:VEVENT
END:VCALENDAR