BEGIN:VCALENDAR
VERSION:2.0
PRODID:-//Bethel AME Church Ann Arbor - ECPv6.2.5//NONSGML v1.0//EN
CALSCALE:GREGORIAN
METHOD:PUBLISH
X-WR-CALNAME:Bethel AME Church Ann Arbor
X-ORIGINAL-URL:https://bethelameannarbor.org
X-WR-CALDESC:Events for Bethel AME Church Ann Arbor
REFRESH-INTERVAL;VALUE=DURATION:PT1H
X-Robots-Tag:noindex
X-PUBLISHED-TTL:PT1H
BEGIN:VTIMEZONE
TZID:America/New_York
BEGIN:DAYLIGHT
TZOFFSETFROM:-0500
TZOFFSETTO:-0400
TZNAME:EDT
DTSTART:20240310T070000
END:DAYLIGHT
BEGIN:STANDARD
TZOFFSETFROM:-0400
TZOFFSETTO:-0500
TZNAME:EST
DTSTART:20241103T060000
END:STANDARD
END:VTIMEZONE
BEGIN:VEVENT
DTSTART;VALUE=DATE:20240821
DTEND;VALUE=DATE:20240829
DTSTAMP:20260420T153646
CREATED:20240805T160037Z
LAST-MODIFIED:20240805T160037Z
UID:10003417-1724198400-1724889599@bethelameannarbor.org
SUMMARY:52nd Quadrennial Session of the General Conference - Columbus\, OH
DESCRIPTION:
URL:https://bethelameannarbor.org/event/52nd-quadrennial-session-of-the-general-conference-columbus-oh/
END:VEVENT
BEGIN:VEVENT
DTSTART;TZID=America/New_York:20240825T100000
DTEND;TZID=America/New_York:20240825T113000
DTSTAMP:20260420T153646
CREATED:20230730T051524Z
LAST-MODIFIED:20231102T035056Z
UID:10000057-1724580000-1724585400@bethelameannarbor.org
SUMMARY:Sunday Service
DESCRIPTION:
URL:https://bethelameannarbor.org/event/sunday-service/2024-08-25/
LOCATION:Bethel AME Church
CATEGORIES:Services
ATTACH;FMTTYPE=image/jpeg:https://bethelameannarbor.org/wp-content/uploads/2023/07/Pastor-in-pulpit2.jpg
END:VEVENT
BEGIN:VEVENT
DTSTART;TZID=America/New_York:20240826T070000
DTEND;TZID=America/New_York:20240826T071000
DTSTAMP:20260420T153646
CREATED:20231102T040911Z
LAST-MODIFIED:20240108T193308Z
UID:10000793-1724655600-1724656200@bethelameannarbor.org
SUMMARY:Daily Prayer
DESCRIPTION:
URL:https://bethelameannarbor.org/event/daily-prayer/2024-08-26/
END:VEVENT
BEGIN:VEVENT
DTSTART;TZID=America/New_York:20240827T070000
DTEND;TZID=America/New_York:20240827T071000
DTSTAMP:20260420T153646
CREATED:20231102T040911Z
LAST-MODIFIED:20240108T193308Z
UID:10000794-1724742000-1724742600@bethelameannarbor.org
SUMMARY:Daily Prayer
DESCRIPTION:
URL:https://bethelameannarbor.org/event/daily-prayer/2024-08-27/
END:VEVENT
BEGIN:VEVENT
DTSTART;TZID=America/New_York:20240828T070000
DTEND;TZID=America/New_York:20240828T071000
DTSTAMP:20260420T153646
CREATED:20231102T040911Z
LAST-MODIFIED:20240108T193308Z
UID:10000795-1724828400-1724829000@bethelameannarbor.org
SUMMARY:Daily Prayer
DESCRIPTION:
URL:https://bethelameannarbor.org/event/daily-prayer/2024-08-28/
END:VEVENT
BEGIN:VEVENT
DTSTART;TZID=America/New_York:20240829T070000
DTEND;TZID=America/New_York:20240829T071000
DTSTAMP:20260420T153646
CREATED:20231102T040911Z
LAST-MODIFIED:20240108T193308Z
UID:10000796-1724914800-1724915400@bethelameannarbor.org
SUMMARY:Daily Prayer
DESCRIPTION:
URL:https://bethelameannarbor.org/event/daily-prayer/2024-08-29/
END:VEVENT
BEGIN:VEVENT
DTSTART;TZID=America/New_York:20240830T070000
DTEND;TZID=America/New_York:20240830T071000
DTSTAMP:20260420T153646
CREATED:20231102T040911Z
LAST-MODIFIED:20240108T193308Z
UID:10000797-1725001200-1725001800@bethelameannarbor.org
SUMMARY:Daily Prayer
DESCRIPTION:
URL:https://bethelameannarbor.org/event/daily-prayer/2024-08-30/
END:VEVENT
BEGIN:VEVENT
DTSTART;TZID=America/New_York:20240831T070000
DTEND;TZID=America/New_York:20240831T071000
DTSTAMP:20260420T153646
CREATED:20231102T040911Z
LAST-MODIFIED:20240108T193308Z
UID:10000798-1725087600-1725088200@bethelameannarbor.org
SUMMARY:Daily Prayer
DESCRIPTION:
URL:https://bethelameannarbor.org/event/daily-prayer/2024-08-31/
END:VEVENT
END:VCALENDAR