BEGIN:VCALENDAR
VERSION:2.0
PRODID:-//Bethel AME Church Ann Arbor - ECPv6.2.5//NONSGML v1.0//EN
CALSCALE:GREGORIAN
METHOD:PUBLISH
X-ORIGINAL-URL:https://bethelameannarbor.org
X-WR-CALDESC:Events for Bethel AME Church Ann Arbor
REFRESH-INTERVAL;VALUE=DURATION:PT1H
X-Robots-Tag:noindex
X-PUBLISHED-TTL:PT1H
BEGIN:VTIMEZONE
TZID:America/New_York
BEGIN:DAYLIGHT
TZOFFSETFROM:-0500
TZOFFSETTO:-0400
TZNAME:EDT
DTSTART:20240310T070000
END:DAYLIGHT
BEGIN:STANDARD
TZOFFSETFROM:-0400
TZOFFSETTO:-0500
TZNAME:EST
DTSTART:20241103T060000
END:STANDARD
END:VTIMEZONE
BEGIN:VEVENT
DTSTART;TZID=America/New_York:20240915T100000
DTEND;TZID=America/New_York:20240915T113000
DTSTAMP:20260420T154106
CREATED:20230730T051524Z
LAST-MODIFIED:20231102T035056Z
UID:10000060-1726394400-1726399800@bethelameannarbor.org
SUMMARY:Sunday Service
DESCRIPTION:
URL:https://bethelameannarbor.org/event/sunday-service/2024-09-15/
LOCATION:Bethel AME Church
CATEGORIES:Services
ATTACH;FMTTYPE=image/jpeg:https://bethelameannarbor.org/wp-content/uploads/2023/07/Pastor-in-pulpit2.jpg
END:VEVENT
BEGIN:VEVENT
DTSTART;TZID=America/New_York:20240915T120000
DTEND;TZID=America/New_York:20240915T130000
DTSTAMP:20260420T154106
CREATED:20240108T210827Z
LAST-MODIFIED:20240108T211213Z
UID:10003011-1726401600-1726405200@bethelameannarbor.org
SUMMARY:WMS Meets Following Service in Small Chapel
DESCRIPTION:
URL:https://bethelameannarbor.org/event/wms-meets-following-service-in-small-chapel/2024-09-15/
END:VEVENT
BEGIN:VEVENT
DTSTART;TZID=America/New_York:20240916T070000
DTEND;TZID=America/New_York:20240916T071000
DTSTAMP:20260420T154106
CREATED:20231102T040911Z
LAST-MODIFIED:20240108T193308Z
UID:10000811-1726470000-1726470600@bethelameannarbor.org
SUMMARY:Daily Prayer
DESCRIPTION:
URL:https://bethelameannarbor.org/event/daily-prayer/2024-09-16/
END:VEVENT
BEGIN:VEVENT
DTSTART;TZID=America/New_York:20240917T070000
DTEND;TZID=America/New_York:20240917T071000
DTSTAMP:20260420T154106
CREATED:20231102T040911Z
LAST-MODIFIED:20240108T193308Z
UID:10000812-1726556400-1726557000@bethelameannarbor.org
SUMMARY:Daily Prayer
DESCRIPTION:
URL:https://bethelameannarbor.org/event/daily-prayer/2024-09-17/
END:VEVENT
BEGIN:VEVENT
DTSTART;TZID=America/New_York:20240918T070000
DTEND;TZID=America/New_York:20240918T071000
DTSTAMP:20260420T154106
CREATED:20231102T040911Z
LAST-MODIFIED:20240108T193308Z
UID:10000813-1726642800-1726643400@bethelameannarbor.org
SUMMARY:Daily Prayer
DESCRIPTION:
URL:https://bethelameannarbor.org/event/daily-prayer/2024-09-18/
END:VEVENT
BEGIN:VEVENT
DTSTART;TZID=America/New_York:20240919T070000
DTEND;TZID=America/New_York:20240919T071000
DTSTAMP:20260420T154106
CREATED:20231102T040911Z
LAST-MODIFIED:20240108T193308Z
UID:10000814-1726729200-1726729800@bethelameannarbor.org
SUMMARY:Daily Prayer
DESCRIPTION:
URL:https://bethelameannarbor.org/event/daily-prayer/2024-09-19/
END:VEVENT
BEGIN:VEVENT
DTSTART;TZID=America/New_York:20240920T070000
DTEND;TZID=America/New_York:20240920T071000
DTSTAMP:20260420T154106
CREATED:20231102T040911Z
LAST-MODIFIED:20240108T193308Z
UID:10000815-1726815600-1726816200@bethelameannarbor.org
SUMMARY:Daily Prayer
DESCRIPTION:
URL:https://bethelameannarbor.org/event/daily-prayer/2024-09-20/
END:VEVENT
BEGIN:VEVENT
DTSTART;TZID=America/New_York:20240921T070000
DTEND;TZID=America/New_York:20240921T071000
DTSTAMP:20260420T154106
CREATED:20231102T040911Z
LAST-MODIFIED:20240108T193308Z
UID:10000816-1726902000-1726902600@bethelameannarbor.org
SUMMARY:Daily Prayer
DESCRIPTION:
URL:https://bethelameannarbor.org/event/daily-prayer/2024-09-21/
END:VEVENT
END:VCALENDAR