BEGIN:VCALENDAR
VERSION:2.0
PRODID:-//Bethel AME Church Ann Arbor - ECPv6.2.5//NONSGML v1.0//EN
CALSCALE:GREGORIAN
METHOD:PUBLISH
X-WR-CALNAME:Bethel AME Church Ann Arbor
X-ORIGINAL-URL:https://bethelameannarbor.org
X-WR-CALDESC:Events for Bethel AME Church Ann Arbor
REFRESH-INTERVAL;VALUE=DURATION:PT1H
X-Robots-Tag:noindex
X-PUBLISHED-TTL:PT1H
BEGIN:VTIMEZONE
TZID:America/New_York
BEGIN:DAYLIGHT
TZOFFSETFROM:-0500
TZOFFSETTO:-0400
TZNAME:EDT
DTSTART:20250309T070000
END:DAYLIGHT
BEGIN:STANDARD
TZOFFSETFROM:-0400
TZOFFSETTO:-0500
TZNAME:EST
DTSTART:20251102T060000
END:STANDARD
END:VTIMEZONE
BEGIN:VEVENT
DTSTART;TZID=America/New_York:20250216T100000
DTEND;TZID=America/New_York:20250216T113000
DTSTAMP:20260419T185145
CREATED:20230730T051524Z
LAST-MODIFIED:20231102T035056Z
UID:10000082-1739700000-1739705400@bethelameannarbor.org
SUMMARY:Sunday Service
DESCRIPTION:
URL:https://bethelameannarbor.org/event/sunday-service/2025-02-16/
LOCATION:Bethel AME Church
CATEGORIES:Services
ATTACH;FMTTYPE=image/jpeg:https://bethelameannarbor.org/wp-content/uploads/2023/07/Pastor-in-pulpit2.jpg
END:VEVENT
BEGIN:VEVENT
DTSTART;TZID=America/New_York:20250216T120000
DTEND;TZID=America/New_York:20250216T130000
DTSTAMP:20260419T185145
CREATED:20240108T210827Z
LAST-MODIFIED:20240108T211213Z
UID:10003016-1739707200-1739710800@bethelameannarbor.org
SUMMARY:WMS Meets Following Service in Small Chapel
DESCRIPTION:
URL:https://bethelameannarbor.org/event/wms-meets-following-service-in-small-chapel/2025-02-16/
END:VEVENT
BEGIN:VEVENT
DTSTART;VALUE=DATE:20250217
DTEND;VALUE=DATE:20250218
DTSTAMP:20260419T185145
CREATED:20240202T222603Z
LAST-MODIFIED:20240202T222603Z
UID:10003333-1739750400-1739836799@bethelameannarbor.org
SUMMARY:President's Day
DESCRIPTION:
URL:https://bethelameannarbor.org/event/presidents-day/2025-02-17/
END:VEVENT
BEGIN:VEVENT
DTSTART;TZID=America/New_York:20250217T070000
DTEND;TZID=America/New_York:20250217T071000
DTSTAMP:20260419T185145
CREATED:20231102T040911Z
LAST-MODIFIED:20240108T193308Z
UID:10000943-1739775600-1739776200@bethelameannarbor.org
SUMMARY:Daily Prayer
DESCRIPTION:
URL:https://bethelameannarbor.org/event/daily-prayer/2025-02-17/
END:VEVENT
BEGIN:VEVENT
DTSTART;TZID=America/New_York:20250218T070000
DTEND;TZID=America/New_York:20250218T071000
DTSTAMP:20260419T185145
CREATED:20231102T040911Z
LAST-MODIFIED:20240108T193308Z
UID:10000944-1739862000-1739862600@bethelameannarbor.org
SUMMARY:Daily Prayer
DESCRIPTION:
URL:https://bethelameannarbor.org/event/daily-prayer/2025-02-18/
END:VEVENT
BEGIN:VEVENT
DTSTART;TZID=America/New_York:20250219T070000
DTEND;TZID=America/New_York:20250219T071000
DTSTAMP:20260419T185145
CREATED:20231102T040911Z
LAST-MODIFIED:20240108T193308Z
UID:10000945-1739948400-1739949000@bethelameannarbor.org
SUMMARY:Daily Prayer
DESCRIPTION:
URL:https://bethelameannarbor.org/event/daily-prayer/2025-02-19/
END:VEVENT
BEGIN:VEVENT
DTSTART;TZID=America/New_York:20250219T193000
DTEND;TZID=America/New_York:20250219T203000
DTSTAMP:20260419T185145
CREATED:20240108T210234Z
LAST-MODIFIED:20240912T155303Z
UID:10002835-1739993400-1739997000@bethelameannarbor.org
SUMMARY:Worship & Praise Team Rehearsal
DESCRIPTION:
URL:https://bethelameannarbor.org/event/worship-praise-team-rehearsal/2025-02-19/
END:VEVENT
BEGIN:VEVENT
DTSTART;TZID=America/New_York:20250220T070000
DTEND;TZID=America/New_York:20250220T071000
DTSTAMP:20260419T185145
CREATED:20231102T040911Z
LAST-MODIFIED:20240108T193308Z
UID:10000946-1740034800-1740035400@bethelameannarbor.org
SUMMARY:Daily Prayer
DESCRIPTION:
URL:https://bethelameannarbor.org/event/daily-prayer/2025-02-20/
END:VEVENT
BEGIN:VEVENT
DTSTART;TZID=America/New_York:20250221T070000
DTEND;TZID=America/New_York:20250221T071000
DTSTAMP:20260419T185145
CREATED:20231102T040911Z
LAST-MODIFIED:20240108T193308Z
UID:10000947-1740121200-1740121800@bethelameannarbor.org
SUMMARY:Daily Prayer
DESCRIPTION:
URL:https://bethelameannarbor.org/event/daily-prayer/2025-02-21/
END:VEVENT
BEGIN:VEVENT
DTSTART;TZID=America/New_York:20250222T070000
DTEND;TZID=America/New_York:20250222T071000
DTSTAMP:20260419T185145
CREATED:20231102T040911Z
LAST-MODIFIED:20240108T193308Z
UID:10000948-1740207600-1740208200@bethelameannarbor.org
SUMMARY:Daily Prayer
DESCRIPTION:
URL:https://bethelameannarbor.org/event/daily-prayer/2025-02-22/
END:VEVENT
END:VCALENDAR