BEGIN:VCALENDAR
VERSION:2.0
PRODID:-//Bethel AME Church Ann Arbor - ECPv6.2.5//NONSGML v1.0//EN
CALSCALE:GREGORIAN
METHOD:PUBLISH
X-WR-CALNAME:Bethel AME Church Ann Arbor
X-ORIGINAL-URL:https://bethelameannarbor.org
X-WR-CALDESC:Events for Bethel AME Church Ann Arbor
REFRESH-INTERVAL;VALUE=DURATION:PT1H
X-Robots-Tag:noindex
X-PUBLISHED-TTL:PT1H
BEGIN:VTIMEZONE
TZID:America/New_York
BEGIN:DAYLIGHT
TZOFFSETFROM:-0500
TZOFFSETTO:-0400
TZNAME:EDT
DTSTART:20250309T070000
END:DAYLIGHT
BEGIN:STANDARD
TZOFFSETFROM:-0400
TZOFFSETTO:-0500
TZNAME:EST
DTSTART:20251102T060000
END:STANDARD
END:VTIMEZONE
BEGIN:VEVENT
DTSTART;TZID=America/New_York:20250223T100000
DTEND;TZID=America/New_York:20250223T113000
DTSTAMP:20260423T091827
CREATED:20230730T051524Z
LAST-MODIFIED:20231102T035056Z
UID:10000083-1740304800-1740310200@bethelameannarbor.org
SUMMARY:Sunday Service
DESCRIPTION:
URL:https://bethelameannarbor.org/event/sunday-service/2025-02-23/
LOCATION:Bethel AME Church
CATEGORIES:Services
ATTACH;FMTTYPE=image/jpeg:https://bethelameannarbor.org/wp-content/uploads/2023/07/Pastor-in-pulpit2.jpg
END:VEVENT
BEGIN:VEVENT
DTSTART;TZID=America/New_York:20250224T070000
DTEND;TZID=America/New_York:20250224T071000
DTSTAMP:20260423T091827
CREATED:20231102T040911Z
LAST-MODIFIED:20240108T193308Z
UID:10000949-1740380400-1740381000@bethelameannarbor.org
SUMMARY:Daily Prayer
DESCRIPTION:
URL:https://bethelameannarbor.org/event/daily-prayer/2025-02-24/
END:VEVENT
BEGIN:VEVENT
DTSTART;TZID=America/New_York:20250225T070000
DTEND;TZID=America/New_York:20250225T071000
DTSTAMP:20260423T091827
CREATED:20231102T040911Z
LAST-MODIFIED:20240108T193308Z
UID:10000950-1740466800-1740467400@bethelameannarbor.org
SUMMARY:Daily Prayer
DESCRIPTION:
URL:https://bethelameannarbor.org/event/daily-prayer/2025-02-25/
END:VEVENT
BEGIN:VEVENT
DTSTART;TZID=America/New_York:20250226T070000
DTEND;TZID=America/New_York:20250226T071000
DTSTAMP:20260423T091827
CREATED:20231102T040911Z
LAST-MODIFIED:20240108T193308Z
UID:10000951-1740553200-1740553800@bethelameannarbor.org
SUMMARY:Daily Prayer
DESCRIPTION:
URL:https://bethelameannarbor.org/event/daily-prayer/2025-02-26/
END:VEVENT
BEGIN:VEVENT
DTSTART;TZID=America/New_York:20250227T070000
DTEND;TZID=America/New_York:20250227T071000
DTSTAMP:20260423T091827
CREATED:20231102T040911Z
LAST-MODIFIED:20240108T193308Z
UID:10000952-1740639600-1740640200@bethelameannarbor.org
SUMMARY:Daily Prayer
DESCRIPTION:
URL:https://bethelameannarbor.org/event/daily-prayer/2025-02-27/
END:VEVENT
BEGIN:VEVENT
DTSTART;TZID=America/New_York:20250228T070000
DTEND;TZID=America/New_York:20250228T071000
DTSTAMP:20260423T091827
CREATED:20231102T040911Z
LAST-MODIFIED:20240108T193308Z
UID:10000953-1740726000-1740726600@bethelameannarbor.org
SUMMARY:Daily Prayer
DESCRIPTION:
URL:https://bethelameannarbor.org/event/daily-prayer/2025-02-28/
END:VEVENT
BEGIN:VEVENT
DTSTART;TZID=America/New_York:20250301T070000
DTEND;TZID=America/New_York:20250301T071000
DTSTAMP:20260423T091827
CREATED:20231102T040911Z
LAST-MODIFIED:20240108T193308Z
UID:10000954-1740812400-1740813000@bethelameannarbor.org
SUMMARY:Daily Prayer
DESCRIPTION:
URL:https://bethelameannarbor.org/event/daily-prayer/2025-03-01/
END:VEVENT
END:VCALENDAR