BEGIN:VCALENDAR
VERSION:2.0
PRODID:-//Bethel AME Church Ann Arbor - ECPv6.2.5//NONSGML v1.0//EN
CALSCALE:GREGORIAN
METHOD:PUBLISH
X-ORIGINAL-URL:https://bethelameannarbor.org
X-WR-CALDESC:Events for Bethel AME Church Ann Arbor
REFRESH-INTERVAL;VALUE=DURATION:PT1H
X-Robots-Tag:noindex
X-PUBLISHED-TTL:PT1H
BEGIN:VTIMEZONE
TZID:America/New_York
BEGIN:DAYLIGHT
TZOFFSETFROM:-0500
TZOFFSETTO:-0400
TZNAME:EDT
DTSTART:20250309T070000
END:DAYLIGHT
BEGIN:STANDARD
TZOFFSETFROM:-0400
TZOFFSETTO:-0500
TZNAME:EST
DTSTART:20251102T060000
END:STANDARD
END:VTIMEZONE
BEGIN:VEVENT
DTSTART;TZID=America/New_York:20250302T100000
DTEND;TZID=America/New_York:20250302T113000
DTSTAMP:20260424T090901
CREATED:20230730T051524Z
LAST-MODIFIED:20231102T035056Z
UID:10000084-1740909600-1740915000@bethelameannarbor.org
SUMMARY:Sunday Service
DESCRIPTION:
URL:https://bethelameannarbor.org/event/sunday-service/2025-03-02/
LOCATION:Bethel AME Church
CATEGORIES:Services
ATTACH;FMTTYPE=image/jpeg:https://bethelameannarbor.org/wp-content/uploads/2023/07/Pastor-in-pulpit2.jpg
END:VEVENT
BEGIN:VEVENT
DTSTART;TZID=America/New_York:20250302T110000
DTEND;TZID=America/New_York:20250302T113000
DTSTAMP:20260424T090901
CREATED:20240108T210633Z
LAST-MODIFIED:20240108T212110Z
UID:10003197-1740913200-1740915000@bethelameannarbor.org
SUMMARY:Holy Communion Sunday
DESCRIPTION:
URL:https://bethelameannarbor.org/event/holy-communion-sunday/2025-03-02/
END:VEVENT
BEGIN:VEVENT
DTSTART;TZID=America/New_York:20250303T070000
DTEND;TZID=America/New_York:20250303T071000
DTSTAMP:20260424T090901
CREATED:20231102T040911Z
LAST-MODIFIED:20240108T193308Z
UID:10000955-1740985200-1740985800@bethelameannarbor.org
SUMMARY:Daily Prayer
DESCRIPTION:
URL:https://bethelameannarbor.org/event/daily-prayer/2025-03-03/
END:VEVENT
BEGIN:VEVENT
DTSTART;TZID=America/New_York:20250304T070000
DTEND;TZID=America/New_York:20250304T071000
DTSTAMP:20260424T090901
CREATED:20231102T040911Z
LAST-MODIFIED:20240108T193308Z
UID:10000956-1741071600-1741072200@bethelameannarbor.org
SUMMARY:Daily Prayer
DESCRIPTION:
URL:https://bethelameannarbor.org/event/daily-prayer/2025-03-04/
END:VEVENT
BEGIN:VEVENT
DTSTART;TZID=America/New_York:20250305T070000
DTEND;TZID=America/New_York:20250305T071000
DTSTAMP:20260424T090901
CREATED:20231102T040911Z
LAST-MODIFIED:20240108T193308Z
UID:10000957-1741158000-1741158600@bethelameannarbor.org
SUMMARY:Daily Prayer
DESCRIPTION:
URL:https://bethelameannarbor.org/event/daily-prayer/2025-03-05/
END:VEVENT
BEGIN:VEVENT
DTSTART;TZID=America/New_York:20250306T070000
DTEND;TZID=America/New_York:20250306T071000
DTSTAMP:20260424T090901
CREATED:20231102T040911Z
LAST-MODIFIED:20240108T193308Z
UID:10000958-1741244400-1741245000@bethelameannarbor.org
SUMMARY:Daily Prayer
DESCRIPTION:
URL:https://bethelameannarbor.org/event/daily-prayer/2025-03-06/
END:VEVENT
BEGIN:VEVENT
DTSTART;TZID=America/New_York:20250307T070000
DTEND;TZID=America/New_York:20250307T071000
DTSTAMP:20260424T090901
CREATED:20231102T040911Z
LAST-MODIFIED:20240108T193308Z
UID:10000959-1741330800-1741331400@bethelameannarbor.org
SUMMARY:Daily Prayer
DESCRIPTION:
URL:https://bethelameannarbor.org/event/daily-prayer/2025-03-07/
END:VEVENT
BEGIN:VEVENT
DTSTART;TZID=America/New_York:20250308T070000
DTEND;TZID=America/New_York:20250308T071000
DTSTAMP:20260424T090901
CREATED:20231102T040911Z
LAST-MODIFIED:20240108T193308Z
UID:10000960-1741417200-1741417800@bethelameannarbor.org
SUMMARY:Daily Prayer
DESCRIPTION:
URL:https://bethelameannarbor.org/event/daily-prayer/2025-03-08/
END:VEVENT
END:VCALENDAR