BEGIN:VCALENDAR
VERSION:2.0
PRODID:-//Bethel AME Church Ann Arbor - ECPv6.2.5//NONSGML v1.0//EN
CALSCALE:GREGORIAN
METHOD:PUBLISH
X-WR-CALNAME:Bethel AME Church Ann Arbor
X-ORIGINAL-URL:https://bethelameannarbor.org
X-WR-CALDESC:Events for Bethel AME Church Ann Arbor
REFRESH-INTERVAL;VALUE=DURATION:PT1H
X-Robots-Tag:noindex
X-PUBLISHED-TTL:PT1H
BEGIN:VTIMEZONE
TZID:America/New_York
BEGIN:DAYLIGHT
TZOFFSETFROM:-0500
TZOFFSETTO:-0400
TZNAME:EDT
DTSTART:20250309T070000
END:DAYLIGHT
BEGIN:STANDARD
TZOFFSETFROM:-0400
TZOFFSETTO:-0500
TZNAME:EST
DTSTART:20251102T060000
END:STANDARD
END:VTIMEZONE
BEGIN:VEVENT
DTSTART;TZID=America/New_York:20250504T100000
DTEND;TZID=America/New_York:20250504T113000
DTSTAMP:20260420T153631
CREATED:20230730T051524Z
LAST-MODIFIED:20231102T035056Z
UID:10000093-1746352800-1746358200@bethelameannarbor.org
SUMMARY:Sunday Service
DESCRIPTION:
URL:https://bethelameannarbor.org/event/sunday-service/2025-05-04/
LOCATION:Bethel AME Church
CATEGORIES:Services
ATTACH;FMTTYPE=image/jpeg:https://bethelameannarbor.org/wp-content/uploads/2023/07/Pastor-in-pulpit2.jpg
END:VEVENT
BEGIN:VEVENT
DTSTART;TZID=America/New_York:20250504T110000
DTEND;TZID=America/New_York:20250504T113000
DTSTAMP:20260420T153631
CREATED:20240108T210633Z
LAST-MODIFIED:20240108T212110Z
UID:10003199-1746356400-1746358200@bethelameannarbor.org
SUMMARY:Holy Communion Sunday
DESCRIPTION:
URL:https://bethelameannarbor.org/event/holy-communion-sunday/2025-05-04/
END:VEVENT
BEGIN:VEVENT
DTSTART;TZID=America/New_York:20250505T070000
DTEND;TZID=America/New_York:20250505T071000
DTSTAMP:20260420T153631
CREATED:20231102T040911Z
LAST-MODIFIED:20240108T193308Z
UID:10001009-1746428400-1746429000@bethelameannarbor.org
SUMMARY:Daily Prayer
DESCRIPTION:
URL:https://bethelameannarbor.org/event/daily-prayer/2025-05-05/
END:VEVENT
BEGIN:VEVENT
DTSTART;TZID=America/New_York:20250506T070000
DTEND;TZID=America/New_York:20250506T071000
DTSTAMP:20260420T153631
CREATED:20231102T040911Z
LAST-MODIFIED:20240108T193308Z
UID:10001010-1746514800-1746515400@bethelameannarbor.org
SUMMARY:Daily Prayer
DESCRIPTION:
URL:https://bethelameannarbor.org/event/daily-prayer/2025-05-06/
END:VEVENT
BEGIN:VEVENT
DTSTART;TZID=America/New_York:20250507T070000
DTEND;TZID=America/New_York:20250507T071000
DTSTAMP:20260420T153631
CREATED:20231102T040911Z
LAST-MODIFIED:20240108T193308Z
UID:10001011-1746601200-1746601800@bethelameannarbor.org
SUMMARY:Daily Prayer
DESCRIPTION:
URL:https://bethelameannarbor.org/event/daily-prayer/2025-05-07/
END:VEVENT
BEGIN:VEVENT
DTSTART;TZID=America/New_York:20250508T070000
DTEND;TZID=America/New_York:20250508T071000
DTSTAMP:20260420T153631
CREATED:20231102T040911Z
LAST-MODIFIED:20240108T193308Z
UID:10001012-1746687600-1746688200@bethelameannarbor.org
SUMMARY:Daily Prayer
DESCRIPTION:
URL:https://bethelameannarbor.org/event/daily-prayer/2025-05-08/
END:VEVENT
BEGIN:VEVENT
DTSTART;TZID=America/New_York:20250509T070000
DTEND;TZID=America/New_York:20250509T071000
DTSTAMP:20260420T153631
CREATED:20231102T040911Z
LAST-MODIFIED:20240108T193308Z
UID:10001013-1746774000-1746774600@bethelameannarbor.org
SUMMARY:Daily Prayer
DESCRIPTION:
URL:https://bethelameannarbor.org/event/daily-prayer/2025-05-09/
END:VEVENT
BEGIN:VEVENT
DTSTART;TZID=America/New_York:20250510T070000
DTEND;TZID=America/New_York:20250510T071000
DTSTAMP:20260420T153631
CREATED:20231102T040911Z
LAST-MODIFIED:20240108T193308Z
UID:10001014-1746860400-1746861000@bethelameannarbor.org
SUMMARY:Daily Prayer
DESCRIPTION:
URL:https://bethelameannarbor.org/event/daily-prayer/2025-05-10/
END:VEVENT
END:VCALENDAR