BEGIN:VCALENDAR
VERSION:2.0
PRODID:-//Bethel AME Church Ann Arbor - ECPv6.2.5//NONSGML v1.0//EN
CALSCALE:GREGORIAN
METHOD:PUBLISH
X-ORIGINAL-URL:https://bethelameannarbor.org
X-WR-CALDESC:Events for Bethel AME Church Ann Arbor
REFRESH-INTERVAL;VALUE=DURATION:PT1H
X-Robots-Tag:noindex
X-PUBLISHED-TTL:PT1H
BEGIN:VTIMEZONE
TZID:America/New_York
BEGIN:DAYLIGHT
TZOFFSETFROM:-0500
TZOFFSETTO:-0400
TZNAME:EDT
DTSTART:20260308T070000
END:DAYLIGHT
BEGIN:STANDARD
TZOFFSETFROM:-0400
TZOFFSETTO:-0500
TZNAME:EST
DTSTART:20261101T060000
END:STANDARD
END:VTIMEZONE
BEGIN:VEVENT
DTSTART;VALUE=DATE:20260104
DTEND;VALUE=DATE:20260126
DTSTAMP:20260419T185803
CREATED:20231215T174549Z
LAST-MODIFIED:20240126T182322Z
UID:10003306-1767484800-1769385599@bethelameannarbor.org
SUMMARY:Daniel Fast
DESCRIPTION:
URL:https://bethelameannarbor.org/event/daniel-fast/2026-01-04/
CATEGORIES:Daniel Fast
ATTACH;FMTTYPE=image/jpeg:https://bethelameannarbor.org/wp-content/uploads/2024/01/danielfast1.jpg
END:VEVENT
BEGIN:VEVENT
DTSTART;TZID=America/New_York:20260125T100000
DTEND;TZID=America/New_York:20260125T113000
DTSTAMP:20260419T185803
CREATED:20230730T051524Z
LAST-MODIFIED:20231102T035056Z
UID:10000131-1769335200-1769340600@bethelameannarbor.org
SUMMARY:Sunday Service
DESCRIPTION:
URL:https://bethelameannarbor.org/event/sunday-service/2026-01-25/
LOCATION:Bethel AME Church
CATEGORIES:Services
ATTACH;FMTTYPE=image/jpeg:https://bethelameannarbor.org/wp-content/uploads/2023/07/Pastor-in-pulpit2.jpg
END:VEVENT
BEGIN:VEVENT
DTSTART;TZID=America/New_York:20260126T070000
DTEND;TZID=America/New_York:20260126T071000
DTSTAMP:20260419T185803
CREATED:20231102T040911Z
LAST-MODIFIED:20240108T193308Z
UID:10001237-1769410800-1769411400@bethelameannarbor.org
SUMMARY:Daily Prayer
DESCRIPTION:
URL:https://bethelameannarbor.org/event/daily-prayer/2026-01-26/
END:VEVENT
BEGIN:VEVENT
DTSTART;TZID=America/New_York:20260127T070000
DTEND;TZID=America/New_York:20260127T071000
DTSTAMP:20260419T185803
CREATED:20231102T040911Z
LAST-MODIFIED:20240108T193308Z
UID:10001238-1769497200-1769497800@bethelameannarbor.org
SUMMARY:Daily Prayer
DESCRIPTION:
URL:https://bethelameannarbor.org/event/daily-prayer/2026-01-27/
END:VEVENT
BEGIN:VEVENT
DTSTART;TZID=America/New_York:20260128T070000
DTEND;TZID=America/New_York:20260128T071000
DTSTAMP:20260419T185803
CREATED:20231102T040911Z
LAST-MODIFIED:20240108T193308Z
UID:10001239-1769583600-1769584200@bethelameannarbor.org
SUMMARY:Daily Prayer
DESCRIPTION:
URL:https://bethelameannarbor.org/event/daily-prayer/2026-01-28/
END:VEVENT
BEGIN:VEVENT
DTSTART;TZID=America/New_York:20260129T070000
DTEND;TZID=America/New_York:20260129T071000
DTSTAMP:20260419T185803
CREATED:20231102T040911Z
LAST-MODIFIED:20240108T193308Z
UID:10001240-1769670000-1769670600@bethelameannarbor.org
SUMMARY:Daily Prayer
DESCRIPTION:
URL:https://bethelameannarbor.org/event/daily-prayer/2026-01-29/
END:VEVENT
BEGIN:VEVENT
DTSTART;TZID=America/New_York:20260130T070000
DTEND;TZID=America/New_York:20260130T071000
DTSTAMP:20260419T185803
CREATED:20231102T040911Z
LAST-MODIFIED:20240108T193308Z
UID:10001241-1769756400-1769757000@bethelameannarbor.org
SUMMARY:Daily Prayer
DESCRIPTION:
URL:https://bethelameannarbor.org/event/daily-prayer/2026-01-30/
END:VEVENT
BEGIN:VEVENT
DTSTART;TZID=America/New_York:20260131T070000
DTEND;TZID=America/New_York:20260131T071000
DTSTAMP:20260419T185803
CREATED:20231102T040911Z
LAST-MODIFIED:20240108T193308Z
UID:10001242-1769842800-1769843400@bethelameannarbor.org
SUMMARY:Daily Prayer
DESCRIPTION:
URL:https://bethelameannarbor.org/event/daily-prayer/2026-01-31/
END:VEVENT
END:VCALENDAR