BEGIN:VCALENDAR
VERSION:2.0
PRODID:-//Bethel AME Church Ann Arbor - ECPv6.2.5//NONSGML v1.0//EN
CALSCALE:GREGORIAN
METHOD:PUBLISH
X-WR-CALNAME:Bethel AME Church Ann Arbor
X-ORIGINAL-URL:https://bethelameannarbor.org
X-WR-CALDESC:Events for Bethel AME Church Ann Arbor
REFRESH-INTERVAL;VALUE=DURATION:PT1H
X-Robots-Tag:noindex
X-PUBLISHED-TTL:PT1H
BEGIN:VTIMEZONE
TZID:America/New_York
BEGIN:DAYLIGHT
TZOFFSETFROM:-0500
TZOFFSETTO:-0400
TZNAME:EDT
DTSTART:20260308T070000
END:DAYLIGHT
BEGIN:STANDARD
TZOFFSETFROM:-0400
TZOFFSETTO:-0500
TZNAME:EST
DTSTART:20261101T060000
END:STANDARD
END:VTIMEZONE
BEGIN:VEVENT
DTSTART;TZID=America/New_York:20260215T100000
DTEND;TZID=America/New_York:20260215T113000
DTSTAMP:20260419T185018
CREATED:20230730T051524Z
LAST-MODIFIED:20231102T035056Z
UID:10000134-1771149600-1771155000@bethelameannarbor.org
SUMMARY:Sunday Service
DESCRIPTION:
URL:https://bethelameannarbor.org/event/sunday-service/2026-02-15/
LOCATION:Bethel AME Church
CATEGORIES:Services
ATTACH;FMTTYPE=image/jpeg:https://bethelameannarbor.org/wp-content/uploads/2023/07/Pastor-in-pulpit2.jpg
END:VEVENT
BEGIN:VEVENT
DTSTART;TZID=America/New_York:20260215T120000
DTEND;TZID=America/New_York:20260215T130000
DTSTAMP:20260419T185018
CREATED:20240108T210827Z
LAST-MODIFIED:20240108T211213Z
UID:10003028-1771156800-1771160400@bethelameannarbor.org
SUMMARY:WMS Meets Following Service in Small Chapel
DESCRIPTION:
URL:https://bethelameannarbor.org/event/wms-meets-following-service-in-small-chapel/2026-02-15/
END:VEVENT
BEGIN:VEVENT
DTSTART;VALUE=DATE:20260216
DTEND;VALUE=DATE:20260217
DTSTAMP:20260419T185018
CREATED:20240202T222603Z
LAST-MODIFIED:20240202T222603Z
UID:10003334-1771200000-1771286399@bethelameannarbor.org
SUMMARY:President's Day
DESCRIPTION:
URL:https://bethelameannarbor.org/event/presidents-day/2026-02-16/
END:VEVENT
BEGIN:VEVENT
DTSTART;TZID=America/New_York:20260216T070000
DTEND;TZID=America/New_York:20260216T071000
DTSTAMP:20260419T185018
CREATED:20231102T040911Z
LAST-MODIFIED:20240108T193308Z
UID:10001255-1771225200-1771225800@bethelameannarbor.org
SUMMARY:Daily Prayer
DESCRIPTION:
URL:https://bethelameannarbor.org/event/daily-prayer/2026-02-16/
END:VEVENT
BEGIN:VEVENT
DTSTART;TZID=America/New_York:20260217T070000
DTEND;TZID=America/New_York:20260217T071000
DTSTAMP:20260419T185018
CREATED:20231102T040911Z
LAST-MODIFIED:20240108T193308Z
UID:10001256-1771311600-1771312200@bethelameannarbor.org
SUMMARY:Daily Prayer
DESCRIPTION:
URL:https://bethelameannarbor.org/event/daily-prayer/2026-02-17/
END:VEVENT
BEGIN:VEVENT
DTSTART;TZID=America/New_York:20260218T070000
DTEND;TZID=America/New_York:20260218T071000
DTSTAMP:20260419T185018
CREATED:20231102T040911Z
LAST-MODIFIED:20240108T193308Z
UID:10001257-1771398000-1771398600@bethelameannarbor.org
SUMMARY:Daily Prayer
DESCRIPTION:
URL:https://bethelameannarbor.org/event/daily-prayer/2026-02-18/
END:VEVENT
BEGIN:VEVENT
DTSTART;TZID=America/New_York:20260218T193000
DTEND;TZID=America/New_York:20260218T203000
DTSTAMP:20260419T185018
CREATED:20240108T210234Z
LAST-MODIFIED:20240912T155303Z
UID:10002847-1771443000-1771446600@bethelameannarbor.org
SUMMARY:Worship & Praise Team Rehearsal
DESCRIPTION:
URL:https://bethelameannarbor.org/event/worship-praise-team-rehearsal/2026-02-18/
END:VEVENT
BEGIN:VEVENT
DTSTART;TZID=America/New_York:20260219T070000
DTEND;TZID=America/New_York:20260219T071000
DTSTAMP:20260419T185018
CREATED:20231102T040911Z
LAST-MODIFIED:20240108T193308Z
UID:10001258-1771484400-1771485000@bethelameannarbor.org
SUMMARY:Daily Prayer
DESCRIPTION:
URL:https://bethelameannarbor.org/event/daily-prayer/2026-02-19/
END:VEVENT
BEGIN:VEVENT
DTSTART;TZID=America/New_York:20260220T070000
DTEND;TZID=America/New_York:20260220T071000
DTSTAMP:20260419T185018
CREATED:20231102T040911Z
LAST-MODIFIED:20240108T193308Z
UID:10001259-1771570800-1771571400@bethelameannarbor.org
SUMMARY:Daily Prayer
DESCRIPTION:
URL:https://bethelameannarbor.org/event/daily-prayer/2026-02-20/
END:VEVENT
BEGIN:VEVENT
DTSTART;TZID=America/New_York:20260221T070000
DTEND;TZID=America/New_York:20260221T071000
DTSTAMP:20260419T185018
CREATED:20231102T040911Z
LAST-MODIFIED:20240108T193308Z
UID:10001260-1771657200-1771657800@bethelameannarbor.org
SUMMARY:Daily Prayer
DESCRIPTION:
URL:https://bethelameannarbor.org/event/daily-prayer/2026-02-21/
END:VEVENT
END:VCALENDAR