BEGIN:VCALENDAR
VERSION:2.0
PRODID:-//Bethel AME Church Ann Arbor - ECPv6.2.5//NONSGML v1.0//EN
CALSCALE:GREGORIAN
METHOD:PUBLISH
X-WR-CALNAME:Bethel AME Church Ann Arbor
X-ORIGINAL-URL:https://bethelameannarbor.org
X-WR-CALDESC:Events for Bethel AME Church Ann Arbor
REFRESH-INTERVAL;VALUE=DURATION:PT1H
X-Robots-Tag:noindex
X-PUBLISHED-TTL:PT1H
BEGIN:VTIMEZONE
TZID:America/New_York
BEGIN:DAYLIGHT
TZOFFSETFROM:-0500
TZOFFSETTO:-0400
TZNAME:EDT
DTSTART:20260308T070000
END:DAYLIGHT
BEGIN:STANDARD
TZOFFSETFROM:-0400
TZOFFSETTO:-0500
TZNAME:EST
DTSTART:20261101T060000
END:STANDARD
END:VTIMEZONE
BEGIN:VEVENT
DTSTART;TZID=America/New_York:20260604T080000
DTEND;TZID=America/New_York:20260720T170000
DTSTAMP:20260419T111140
CREATED:20231109T222617Z
LAST-MODIFIED:20231121T163121Z
UID:10002408-1780560000-1784566800@bethelameannarbor.org
SUMMARY:Bethel Senior Home Repair
DESCRIPTION: 
URL:https://bethelameannarbor.org/event/bethel-senior-home-repair/2026-06-04/
CATEGORIES:Archive,Summer Series
ATTACH;FMTTYPE=image/jpeg:https://bethelameannarbor.org/wp-content/uploads/2023/11/2023-Summer-of-Service_-Bethel-Seniors-Home-Repairs8.jpg
END:VEVENT
BEGIN:VEVENT
DTSTART;TZID=America/New_York:20260621T100000
DTEND;TZID=America/New_York:20260621T113000
DTSTAMP:20260419T111140
CREATED:20230730T051524Z
LAST-MODIFIED:20231102T035056Z
UID:10000152-1782036000-1782041400@bethelameannarbor.org
SUMMARY:Sunday Service
DESCRIPTION:
URL:https://bethelameannarbor.org/event/sunday-service/2026-06-21/
LOCATION:Bethel AME Church
CATEGORIES:Services
ATTACH;FMTTYPE=image/jpeg:https://bethelameannarbor.org/wp-content/uploads/2023/07/Pastor-in-pulpit2.jpg
END:VEVENT
BEGIN:VEVENT
DTSTART;TZID=America/New_York:20260621T120000
DTEND;TZID=America/New_York:20260621T130000
DTSTAMP:20260419T111140
CREATED:20240108T210827Z
LAST-MODIFIED:20240108T211213Z
UID:10003032-1782043200-1782046800@bethelameannarbor.org
SUMMARY:WMS Meets Following Service in Small Chapel
DESCRIPTION:
URL:https://bethelameannarbor.org/event/wms-meets-following-service-in-small-chapel/2026-06-21/
END:VEVENT
BEGIN:VEVENT
DTSTART;TZID=America/New_York:20260622T070000
DTEND;TZID=America/New_York:20260622T071000
DTSTAMP:20260419T111140
CREATED:20231102T040911Z
LAST-MODIFIED:20240108T193308Z
UID:10001363-1782111600-1782112200@bethelameannarbor.org
SUMMARY:Daily Prayer
DESCRIPTION:
URL:https://bethelameannarbor.org/event/daily-prayer/2026-06-22/
END:VEVENT
BEGIN:VEVENT
DTSTART;TZID=America/New_York:20260623T070000
DTEND;TZID=America/New_York:20260623T071000
DTSTAMP:20260419T111140
CREATED:20231102T040911Z
LAST-MODIFIED:20240108T193308Z
UID:10001364-1782198000-1782198600@bethelameannarbor.org
SUMMARY:Daily Prayer
DESCRIPTION:
URL:https://bethelameannarbor.org/event/daily-prayer/2026-06-23/
END:VEVENT
BEGIN:VEVENT
DTSTART;TZID=America/New_York:20260624T070000
DTEND;TZID=America/New_York:20260624T071000
DTSTAMP:20260419T111140
CREATED:20231102T040911Z
LAST-MODIFIED:20240108T193308Z
UID:10001365-1782284400-1782285000@bethelameannarbor.org
SUMMARY:Daily Prayer
DESCRIPTION:
URL:https://bethelameannarbor.org/event/daily-prayer/2026-06-24/
END:VEVENT
BEGIN:VEVENT
DTSTART;TZID=America/New_York:20260625T070000
DTEND;TZID=America/New_York:20260625T071000
DTSTAMP:20260419T111140
CREATED:20231102T040911Z
LAST-MODIFIED:20240108T193308Z
UID:10001366-1782370800-1782371400@bethelameannarbor.org
SUMMARY:Daily Prayer
DESCRIPTION:
URL:https://bethelameannarbor.org/event/daily-prayer/2026-06-25/
END:VEVENT
BEGIN:VEVENT
DTSTART;TZID=America/New_York:20260626T070000
DTEND;TZID=America/New_York:20260626T071000
DTSTAMP:20260419T111140
CREATED:20231102T040911Z
LAST-MODIFIED:20240108T193308Z
UID:10001367-1782457200-1782457800@bethelameannarbor.org
SUMMARY:Daily Prayer
DESCRIPTION:
URL:https://bethelameannarbor.org/event/daily-prayer/2026-06-26/
END:VEVENT
BEGIN:VEVENT
DTSTART;TZID=America/New_York:20260627T070000
DTEND;TZID=America/New_York:20260627T071000
DTSTAMP:20260419T111140
CREATED:20231102T040911Z
LAST-MODIFIED:20240108T193308Z
UID:10001368-1782543600-1782544200@bethelameannarbor.org
SUMMARY:Daily Prayer
DESCRIPTION:
URL:https://bethelameannarbor.org/event/daily-prayer/2026-06-27/
END:VEVENT
END:VCALENDAR