BEGIN:VCALENDAR
VERSION:2.0
PRODID:-//Bethel AME Church Ann Arbor - ECPv6.2.5//NONSGML v1.0//EN
CALSCALE:GREGORIAN
METHOD:PUBLISH
X-WR-CALNAME:Bethel AME Church Ann Arbor
X-ORIGINAL-URL:https://bethelameannarbor.org
X-WR-CALDESC:Events for Bethel AME Church Ann Arbor
REFRESH-INTERVAL;VALUE=DURATION:PT1H
X-Robots-Tag:noindex
X-PUBLISHED-TTL:PT1H
BEGIN:VTIMEZONE
TZID:America/New_York
BEGIN:DAYLIGHT
TZOFFSETFROM:-0500
TZOFFSETTO:-0400
TZNAME:EDT
DTSTART:20270314T070000
END:DAYLIGHT
BEGIN:STANDARD
TZOFFSETFROM:-0400
TZOFFSETTO:-0500
TZNAME:EST
DTSTART:20271107T060000
END:STANDARD
END:VTIMEZONE
BEGIN:VEVENT
DTSTART;TZID=America/New_York:20270603T080000
DTEND;TZID=America/New_York:20270719T170000
DTSTAMP:20260423T210857
CREATED:20231109T222617Z
LAST-MODIFIED:20231121T163121Z
UID:10002409-1812009600-1816016400@bethelameannarbor.org
SUMMARY:Bethel Senior Home Repair
DESCRIPTION: 
URL:https://bethelameannarbor.org/event/bethel-senior-home-repair/2027-06-03/
CATEGORIES:Archive,Summer Series
ATTACH;FMTTYPE=image/jpeg:https://bethelameannarbor.org/wp-content/uploads/2023/11/2023-Summer-of-Service_-Bethel-Seniors-Home-Repairs8.jpg
END:VEVENT
BEGIN:VEVENT
DTSTART;TZID=America/New_York:20270704T100000
DTEND;TZID=America/New_York:20270704T113000
DTSTAMP:20260423T210857
CREATED:20230730T051524Z
LAST-MODIFIED:20231102T035056Z
UID:10000206-1814695200-1814700600@bethelameannarbor.org
SUMMARY:Sunday Service
DESCRIPTION:
URL:https://bethelameannarbor.org/event/sunday-service/2027-07-04/
LOCATION:Bethel AME Church
CATEGORIES:Services
ATTACH;FMTTYPE=image/jpeg:https://bethelameannarbor.org/wp-content/uploads/2023/07/Pastor-in-pulpit2.jpg
END:VEVENT
BEGIN:VEVENT
DTSTART;TZID=America/New_York:20270704T110000
DTEND;TZID=America/New_York:20270704T113000
DTSTAMP:20260423T210857
CREATED:20240108T210633Z
LAST-MODIFIED:20240108T212110Z
UID:10003225-1814698800-1814700600@bethelameannarbor.org
SUMMARY:Holy Communion Sunday
DESCRIPTION:
URL:https://bethelameannarbor.org/event/holy-communion-sunday/2027-07-04/
END:VEVENT
BEGIN:VEVENT
DTSTART;TZID=America/New_York:20270705T070000
DTEND;TZID=America/New_York:20270705T071000
DTSTAMP:20260423T210857
CREATED:20231102T040911Z
LAST-MODIFIED:20240108T193308Z
UID:10001687-1814770800-1814771400@bethelameannarbor.org
SUMMARY:Daily Prayer
DESCRIPTION:
URL:https://bethelameannarbor.org/event/daily-prayer/2027-07-05/
END:VEVENT
BEGIN:VEVENT
DTSTART;TZID=America/New_York:20270706T070000
DTEND;TZID=America/New_York:20270706T071000
DTSTAMP:20260423T210857
CREATED:20231102T040911Z
LAST-MODIFIED:20240108T193308Z
UID:10001688-1814857200-1814857800@bethelameannarbor.org
SUMMARY:Daily Prayer
DESCRIPTION:
URL:https://bethelameannarbor.org/event/daily-prayer/2027-07-06/
END:VEVENT
BEGIN:VEVENT
DTSTART;TZID=America/New_York:20270707T070000
DTEND;TZID=America/New_York:20270707T071000
DTSTAMP:20260423T210857
CREATED:20231102T040911Z
LAST-MODIFIED:20240108T193308Z
UID:10001689-1814943600-1814944200@bethelameannarbor.org
SUMMARY:Daily Prayer
DESCRIPTION:
URL:https://bethelameannarbor.org/event/daily-prayer/2027-07-07/
END:VEVENT
BEGIN:VEVENT
DTSTART;TZID=America/New_York:20270708T070000
DTEND;TZID=America/New_York:20270708T071000
DTSTAMP:20260423T210857
CREATED:20231102T040911Z
LAST-MODIFIED:20240108T193308Z
UID:10001690-1815030000-1815030600@bethelameannarbor.org
SUMMARY:Daily Prayer
DESCRIPTION:
URL:https://bethelameannarbor.org/event/daily-prayer/2027-07-08/
END:VEVENT
BEGIN:VEVENT
DTSTART;TZID=America/New_York:20270709T070000
DTEND;TZID=America/New_York:20270709T071000
DTSTAMP:20260423T210857
CREATED:20231102T040911Z
LAST-MODIFIED:20240108T193308Z
UID:10001691-1815116400-1815117000@bethelameannarbor.org
SUMMARY:Daily Prayer
DESCRIPTION:
URL:https://bethelameannarbor.org/event/daily-prayer/2027-07-09/
END:VEVENT
BEGIN:VEVENT
DTSTART;TZID=America/New_York:20270710T070000
DTEND;TZID=America/New_York:20270710T071000
DTSTAMP:20260423T210857
CREATED:20231102T040911Z
LAST-MODIFIED:20240108T193308Z
UID:10001692-1815202800-1815203400@bethelameannarbor.org
SUMMARY:Daily Prayer
DESCRIPTION:
URL:https://bethelameannarbor.org/event/daily-prayer/2027-07-10/
END:VEVENT
END:VCALENDAR